BEGIN:VCALENDAR
VERSION:2.0
PRODID:-//ChamberMaster//Event Calendar 2.0//EN
METHOD:PUBLISH
X-PUBLISHED-TTL:P3D
REFRESH-INTERVAL:P3D
CALSCALE:GREGORIAN
BEGIN:VEVENT
DTSTART:20140823T010000Z
DTEND:20140823T040000Z
X-MICROSOFT-CDO-ALLDAYEVENT:FALSE
SUMMARY:Event at Duds N Doodads
DESCRIPTION:DUDS & DOODADS ONE YEAR ANNIVERSARY!!
X-ALT-DESC;FMTTYPE=text/html:<h1 style="text-align: center\;"><strong>DUDS &amp\; DOODADS ONE YEAR ANNIVERSARY!!</strong></h1>\n\n<div style="text-align: center\;">&nbsp\;</div>\n\n<div style="text-align: center\;">&nbsp\;</div>\n\n<div style="text-align: center\;">&nbsp\;</div>\n
LOCATION:DUDS & DOODADS 2232 D STREET #203 LA VERNE\, CA 91750
UID:e.1883.64
SEQUENCE:3
DTSTAMP:20260425T160519Z
URL:https://business.lavernechamber.org/events/details/event-at-duds-n-doodads-08-22-2014-64
END:VEVENT

END:VCALENDAR
