BEGIN:VCALENDAR
VERSION:2.0
PRODID:-//ChamberMaster//Event Calendar 2.0//EN
METHOD:PUBLISH
X-PUBLISHED-TTL:P3D
REFRESH-INTERVAL:P3D
CALSCALE:GREGORIAN
BEGIN:VEVENT
DTSTART:20180624T020000Z
DTEND:20180624T050000Z
X-MICROSOFT-CDO-ALLDAYEVENT:FALSE
SUMMARY:Fairplex Presents Cheers
DESCRIPTION:Fairplex presents Cheers at The Farm! \n\n\n\nJoin us for this celebration of the award-winning wine\, spirits\, beer and extra virgin olive oils from the Los Angeles International Competitions. \n\n\n\nSet in the rustic backdrop of The Farm at Fairplex\, Cheers is a summer night of festivities\, friends and fun. Activities include food & drink tastings\, dancing\, watercolor crafts\, and a silent auction. \n\nCheers at The Farm is presented in partnership with the Inland Valley Daily Bulletin and San Gabriel Valley Tribune.
X-ALT-DESC;FMTTYPE=text/html:<span style="color: rgb(29\, 33\, 41)\; font-family: Helvetica\, Arial\, sans-serif\; font-size: 14px\;">Fairplex presents Cheers at The Farm!&nbsp\;</span><br style="color: rgb(29\, 33\, 41)\; font-family: Helvetica\, Arial\, sans-serif\; font-size: 14px\;" />\n<br style="color: rgb(29\, 33\, 41)\; font-family: Helvetica\, Arial\, sans-serif\; font-size: 14px\;" />\n<span style="color: rgb(29\, 33\, 41)\; font-family: Helvetica\, Arial\, sans-serif\; font-size: 14px\;">Join us for this celebration of the award-winning wine\, spirits\, beer and extra virgin olive oils from the Los Angeles International Competitions.&nbsp\;</span><br style="color: rgb(29\, 33\, 41)\; font-family: Helvetica\, Arial\, sans-serif\; font-size: 14px\;" />\n<br style="color: rgb(29\, 33\, 41)\; font-family: Helvetica\, Arial\, sans-serif\; font-size: 14px\;" />\n<span style="color: rgb(29\, 33\, 41)\; font-family: Helvetica\, Arial\, sans-serif\; font-size: 14px\;">Set in the rustic backdrop of The Farm at Fairplex\, Cheers is a summer night of festivities\, friends and fun. Activities include food &amp\; drink tastings\, dancing\, watercolor crafts\, and a silent auction.&nbsp\;</span><br style="color: rgb(29\, 33\, 41)\; font-family: Helvetica\, Arial\, sans-serif\; font-size: 14px\;" />\n<span style="color: rgb(29\, 33\, 41)\; font-family: Helvetica\, Arial\, sans-serif\; font-size: 14px\;">Cheers at The Farm is presented in partnership with the Inland Valley Daily Bulletin and San Gabriel Valley Tribune.</span>
LOCATION:Fairplex 1101 W McKinley Ave Pomona PARKING: Gate 12 on White Ave.
UID:e.1883.691
SEQUENCE:3
DTSTAMP:20260422T151509Z
URL:https://business.lavernechamber.org/events/details/fairplex-presents-cheers-691
END:VEVENT

END:VCALENDAR
