BEGIN:VCALENDAR
VERSION:2.0
PRODID:-//ChamberMaster//Event Calendar 2.0//EN
METHOD:PUBLISH
X-PUBLISHED-TTL:P3D
REFRESH-INTERVAL:P3D
CALSCALE:GREGORIAN
BEGIN:VEVENT
DTSTART:20191026T220000Z
DTEND:20191027T040000Z
X-MICROSOFT-CDO-ALLDAYEVENT:FALSE
SUMMARY:Fairplex Presents En Memoria
DESCRIPTION:En Memoria at Fairplex is a Dia de los Muertos event that brings together visual artists and lowrider culture to celebrate art\, music and great food. The vision of En Memoria combines the Dia de los Muertos tradition of altar making with the contemporary artistic representation of lowrider car culture and is the second event in a series of programs launched under Fairplex's Mi POCO LA.
X-ALT-DESC;FMTTYPE=text/html:<em><span style="font-family:arial\,sans-serif"><span style="font-size:12.0pt">En Memoria</span></span></em><span style="font-family:arial\,sans-serif"><span style="font-size:12.0pt">&nbsp\;at&nbsp\;</span></span><span style="font-size:12.0pt"><a href="http://fairplex.com/" target="_blank"><span style="color:windowtext"><span style="font-family:arial\,sans-serif">Fairplex</span></span></a></span><span style="font-family:arial\,sans-serif"><span style="font-size:12.0pt">&nbsp\;is a&nbsp\;<em><span style="font-family:arial\,sans-serif">Dia de los Muertos</span></em>&nbsp\;event that brings together visual artists and lowrider culture to celebrate art\, music and great food. The vision of&nbsp\;<em><span style="font-family:arial\,sans-serif">En Memoria</span></em>&nbsp\;combines the&nbsp\;<em><span style="font-family:arial\,sans-serif">Dia de los Muertos</span></em>&nbsp\;tradition of altar making with the contemporary artistic representation of lowrider car culture and is the second event in a series of programs launched under Fairplex&rsquo\;s&nbsp\;<em><span style="font-family:arial\,sans-serif"><a href="https://www.fairplex.com/events/mipocola" target="_blank"><span style="color:windowtext">Mi POCO LA</span></a></span></em>.</span></span>
LOCATION:The Fairplex
UID:e.1883.1757
SEQUENCE:3
DTSTAMP:20260421T144853Z
URL:https://business.lavernechamber.org/events/details/fairplex-presents-en-memoria-1757
END:VEVENT

END:VCALENDAR
