BEGIN:VCALENDAR
VERSION:2.0
PRODID:-//ChamberMaster//Event Calendar 2.0//EN
METHOD:PUBLISH
X-PUBLISHED-TTL:P3D
REFRESH-INTERVAL:P3D
CALSCALE:GREGORIAN
BEGIN:VEVENT
DTSTART:20190413T160000Z
DTEND:20190413T220000Z
X-MICROSOFT-CDO-ALLDAYEVENT:FALSE
SUMMARY:Fairplex Presents Spring in the Farm
DESCRIPTION:Consider this: just about everything we eat\, wear and use comes from American agriculture. What better way to teach our children about agri-business than by giving them a hands-on experience to see\, touch and taste agriculture in motion. \n\n\nEnjoy activities and workshops open to local communities:\n\n  Rope making   Live Music   Corn Grinding   Kids activities & crafts   Olive oil tasting   Food   Live Animals   Square Foot Gardening Workshops   Temporary Tattoos   Free Parking   much more!
X-ALT-DESC;FMTTYPE=text/html:<span font-size:="" roboto="" style="font-family: ">Consider this: just about everything we eat\, wear and use comes from American agriculture. What better way to teach our children about agri-business than by giving them a hands-on experience to see\, touch and taste agriculture in motion.&nbsp\;</span>\n<p font-size:="" roboto="" style="box-sizing: border-box\; margin: 0px\; padding: 0px 0px 15px\; font-family: "><br />\nEnjoy activities and workshops open to local communities:</p>\n\n<div style="box-sizing: border-box\;">&bull\; Rope making &bull\; Live Music &bull\; Corn Grinding &bull\; Kids activities &amp\; crafts &bull\; Olive oil tasting &bull\; Food &bull\; Live Animals &bull\; Square Foot Gardening Workshops &bull\; Temporary Tattoos &bull\; Free Parking &bull\; much more!</div>\n
LOCATION:The Farm at Fairplex Enter through Gate 17 on Fairplex Drive
UID:e.1883.1359
SEQUENCE:3
DTSTAMP:20260421T235046Z
URL:https://business.lavernechamber.org/events/details/fairplex-presents-spring-in-the-farm-1359
END:VEVENT

END:VCALENDAR
