BEGIN:VCALENDAR
VERSION:2.0
PRODID:-//ChamberMaster//Event Calendar 2.0//EN
METHOD:PUBLISH
X-PUBLISHED-TTL:P3D
REFRESH-INTERVAL:P3D
CALSCALE:GREGORIAN
BEGIN:VEVENT
DTSTART:20171028T150000Z
DTEND:20171028T190000Z
X-MICROSOFT-CDO-ALLDAYEVENT:FALSE
SUMMARY:Fall Community Yard Sale
DESCRIPTION:ONLINE REGISTRATION IS NOW CLOSED. IF YOU WOULD LIKE PARTICIPATE PLEASE COME TO THE CHAMBER AT BOOTH #38 AT 7:00 AM. CASH OR CHECK ONLY\n\n\n\nAre you ready for some fall cleaning? Is it time to un-clutter your closets? Do you want to have a yard sale but dread having a hundred people on your lawn at eight o'clock on a Saturday morning? Well\, you are in luck! The La Verne Chamber of Commerce with the City of La Verne and Bonita High School are sponsoring a Community Yard Sale on Saturday\, October 28 from 8:00am until noon\, in the Bonita High School Parking Lot. Spaces are available for $30 each\, or a double space for $40. There will be no admission charge for buyers\, and everyone is invited to browse and shop! One person's "trash" is another's "treasure\;" so\, please mark October 28 on your calendar\, and plan to be a part of this Community Yard Sale. You just don't know what you might find! \n\n\n\nVendor Information Sheet\n\n\n\nVendor Registration Form
X-ALT-DESC;FMTTYPE=text/html:ONLINE REGISTRATION IS NOW CLOSED. IF YOU WOULD LIKE PARTICIPATE PLEASE COME TO THE CHAMBER AT BOOTH #38 AT 7:00 AM. CASH OR CHECK ONLY<br />\n<br />\nAre you ready for some fall cleaning? Is it time to un-clutter your closets? Do you want to have a yard sale but dread having a hundred people on your lawn at eight o&rsquo\;clock on a Saturday morning? Well\, you are in luck! The La Verne Chamber of Commerce with the City of La Verne and Bonita High School are sponsoring a Community Yard Sale on Saturday\, October 28 from 8:00am until noon\, in the Bonita High School Parking Lot. Spaces are available for $30 each\, or a double space for $40. There will be no admission charge for buyers\, and everyone is invited to browse and shop! One person&rsquo\;s &ldquo\;trash&rdquo\; is another&rsquo\;s &ldquo\;treasure\;&rdquo\; so\, please mark October 28 on your calendar\, and plan to be a part of this Community Yard Sale. You just don&rsquo\;t know what you might find!&nbsp\;<br />\n<br />\n<a href="http://www.lavernechamber.org/wp-content/uploads/2017/09/Vendor-Information-Sheet.pdf" target="_blank">Vendor Information Sheet</a><br />\n<br />\n<a href="http://www.lavernechamber.org/wp-content/uploads/2017/09/Vendor-Registration-Form.pdf" target="_blank">Vendor Registration Form</a>
LOCATION:Bonita High School Parking Lot 3102 D Street
UID:e.1883.201
SEQUENCE:3
DTSTAMP:20260423T032602Z
URL:https://business.lavernechamber.org/events/details/fall-community-yard-sale-201
END:VEVENT

END:VCALENDAR
