BEGIN:VCALENDAR
VERSION:2.0
PRODID:-//ChamberMaster//Event Calendar 2.0//EN
METHOD:PUBLISH
X-PUBLISHED-TTL:P3D
REFRESH-INTERVAL:P3D
CALSCALE:GREGORIAN
BEGIN:VEVENT
DTSTART:20171105T170000Z
DTEND:20171105T230000Z
X-MICROSOFT-CDO-ALLDAYEVENT:FALSE
SUMMARY:Fall In The Farm
DESCRIPTION:Consider this: just about everything we eat\, wear and use comes from American agriculture. What better way to teach our children about agri-business than by giving them a hands-on experience to see\, touch and taste agriculture in motion.\n\nEnjoy activities and workshops open to local communities:\n\n\n	Rope making\n	Hay Baling\n	Corn Grinding\n	Kids potting activity\n	Stick horse races\n	Olive oil tasting\n	Youth Science Center Activities\n	Square Foot Gardening Workshops\n	Face Painting\n	Free Parking\n	much more!\n\nCooking Demonstrations\n\n11 a.m. -  Adam Haverland\, Sheraton Fairplex Hotel and Conference Center\n\n12 p.m. -  Travis Flood\, Pappas Artisanal and Grizzby's Donuts\n\n1 p.m. - Rick Garcia\, Dia De Los Puercos\n\n2 p.m. - Vinny Cavalli\, Lake Arrowhead Lodge\n\n\n\nCow Milking Demonstrations\n\n9:30 a.m.\, 11 a.m.\, 12:30 p.m. & 2 p.m. \n\n\n\nFloral Arrangement Demonstrations\n\n11 a.m.\, 1 p.m. & 2 p.m. \n\n\n\nEgg Hatching Lecture: 10 a.m. & 12 p.m. \n\n\n\nGardening Talks\n\n10:30 a.m.\, 11:30 a.m.\, 12:30 p.m.\, 1:30 p.m. & 2:30 p.m.\n\n\n\nSquare Foot Gardening Workshops\n\n10 a.m.\, 12 p.m. & 2 p.m.\n\n\n\nTurkey Calling Contest: 11 a.m. & 1:30 p.m.\n\n\n\nSunday\, Nov. 5\, 9am - 3pm
X-ALT-DESC;FMTTYPE=text/html:<p style="box-sizing: border-box\; margin: 0px\; padding: 0px 0px 15px\; font-family: &quot\;Roboto Slab&quot\;\, serif\; font-size: 12px\;">Consider this: just about everything we eat\, wear and use comes from American agriculture. What better way to teach our children about agri-business than by giving them a hands-on experience to see\, touch and taste agriculture in motion.</p>\n\n<p style="box-sizing: border-box\; margin: 0px\; padding: 0px 0px 15px\; font-family: &quot\;Roboto Slab&quot\;\, serif\; font-size: 12px\;">Enjoy activities and workshops open to local communities:</p>\n\n<ul style="box-sizing: border-box\; margin-top: 0px\; margin-bottom: 10px\; font-family: &quot\;Roboto Slab&quot\;\, serif\; font-size: 12px\;">\n	<li style="box-sizing: border-box\;">Rope making</li>\n	<li style="box-sizing: border-box\;">Hay Baling</li>\n	<li style="box-sizing: border-box\;">Corn Grinding</li>\n	<li style="box-sizing: border-box\;">Kids potting activity</li>\n	<li style="box-sizing: border-box\;">Stick horse races</li>\n	<li style="box-sizing: border-box\;">Olive oil tasting</li>\n	<li style="box-sizing: border-box\;">Youth Science Center Activities</li>\n	<li style="box-sizing: border-box\;">Square Foot Gardening Workshops</li>\n	<li style="box-sizing: border-box\;">Face Painting</li>\n	<li style="box-sizing: border-box\;">Free Parking</li>\n	<li style="box-sizing: border-box\;">much more!</li>\n</ul>\n<span style="box-sizing: border-box\; font-weight: 700\; font-family: &quot\;Roboto Slab&quot\;\, serif\; font-size: 12px\;">Cooking Demonstrations</span><br style="box-sizing: border-box\; font-family: &quot\;Roboto Slab&quot\;\, serif\; font-size: 12px\;" />\n<span style="font-family: &quot\;Roboto Slab&quot\;\, serif\; font-size: 12px\;">11 a.m. -&nbsp\; Adam Haverland\, Sheraton Fairplex Hotel and Conference Center</span><br style="box-sizing: border-box\; font-family: &quot\;Roboto Slab&quot\;\, serif\; font-size: 12px\;" />\n<span style="font-family: &quot\;Roboto Slab&quot\;\, serif\; font-size: 12px\;">12 p.m. -&nbsp\; Travis Flood\, Pappas Artisanal and Grizzby&rsquo\;s Donuts</span><br style="box-sizing: border-box\; font-family: &quot\;Roboto Slab&quot\;\, serif\; font-size: 12px\;" />\n<span style="font-family: &quot\;Roboto Slab&quot\;\, serif\; font-size: 12px\;">1 p.m. - Rick Garcia\, Dia De Los Puercos</span><br style="box-sizing: border-box\; font-family: &quot\;Roboto Slab&quot\;\, serif\; font-size: 12px\;" />\n<span style="font-family: &quot\;Roboto Slab&quot\;\, serif\; font-size: 12px\;">2 p.m. - Vinny Cavalli\, Lake Arrowhead Lodge</span><br style="box-sizing: border-box\; font-family: &quot\;Roboto Slab&quot\;\, serif\; font-size: 12px\;" />\n<br style="box-sizing: border-box\; font-family: &quot\;Roboto Slab&quot\;\, serif\; font-size: 12px\;" />\n<span style="box-sizing: border-box\; font-weight: 700\; font-family: &quot\;Roboto Slab&quot\;\, serif\; font-size: 12px\;">Cow Milking Demonstrations</span><br style="box-sizing: border-box\; font-family: &quot\;Roboto Slab&quot\;\, serif\; font-size: 12px\;" />\n<span style="font-family: &quot\;Roboto Slab&quot\;\, serif\; font-size: 12px\;">9:30 a.m.\, 11 a.m.\, 12:30 p.m. &amp\; 2 p.m.&nbsp\;</span><br style="box-sizing: border-box\; font-family: &quot\;Roboto Slab&quot\;\, serif\; font-size: 12px\;" />\n<br style="box-sizing: border-box\; font-family: &quot\;Roboto Slab&quot\;\, serif\; font-size: 12px\;" />\n<span style="box-sizing: border-box\; font-weight: 700\; font-family: &quot\;Roboto Slab&quot\;\, serif\; font-size: 12px\;">Floral Arrangement Demonstrations</span><br style="box-sizing: border-box\; font-family: &quot\;Roboto Slab&quot\;\, serif\; font-size: 12px\;" />\n<span style="font-family: &quot\;Roboto Slab&quot\;\, serif\; font-size: 12px\;">11 a.m.\, 1 p.m. &amp\; 2 p.m.&nbsp\;</span><br style="box-sizing: border-box\; font-family: &quot\;Roboto Slab&quot\;\, serif\; font-size: 12px\;" />\n<br style="box-sizing: border-box\; font-family: &quot\;Roboto Slab&quot\;\, serif\; font-size: 12px\;" />\n<span style="box-sizing: border-box\; font-weight: 700\; font-family: &quot\;Roboto Slab&quot\;\, serif\; font-size: 12px\;">Egg Hatching Lecture</span><span style="font-family: &quot\;Roboto Slab&quot\;\, serif\; font-size: 12px\;">: 10 a.m. &amp\; 12 p.m.&nbsp\;</span><br style="box-sizing: border-box\; font-family: &quot\;Roboto Slab&quot\;\, serif\; font-size: 12px\;" />\n<br style="box-sizing: border-box\; font-family: &quot\;Roboto Slab&quot\;\, serif\; font-size: 12px\;" />\n<span style="box-sizing: border-box\; font-weight: 700\; font-family: &quot\;Roboto Slab&quot\;\, serif\; font-size: 12px\;">Gardening Talks</span><br style="box-sizing: border-box\; font-family: &quot\;Roboto Slab&quot\;\, serif\; font-size: 12px\;" />\n<span style="font-family: &quot\;Roboto Slab&quot\;\, serif\; font-size: 12px\;">10:30 a.m.\, 11:30 a.m.\, 12:30 p.m.\, 1:30 p.m. &amp\; 2:30 p.m.</span><br style="box-sizing: border-box\; font-family: &quot\;Roboto Slab&quot\;\, serif\; font-size: 12px\;" />\n<br style="box-sizing: border-box\; font-family: &quot\;Roboto Slab&quot\;\, serif\; font-size: 12px\;" />\n<span style="box-sizing: border-box\; font-weight: 700\; font-family: &quot\;Roboto Slab&quot\;\, serif\; font-size: 12px\;">Square Foot Gardening Workshops</span><br style="box-sizing: border-box\; font-family: &quot\;Roboto Slab&quot\;\, serif\; font-size: 12px\;" />\n<span style="font-family: &quot\;Roboto Slab&quot\;\, serif\; font-size: 12px\;">10 a.m.\, 12 p.m. &amp\; 2 p.m.</span><br style="box-sizing: border-box\; font-family: &quot\;Roboto Slab&quot\;\, serif\; font-size: 12px\;" />\n<br style="box-sizing: border-box\; font-family: &quot\;Roboto Slab&quot\;\, serif\; font-size: 12px\;" />\n<span style="box-sizing: border-box\; font-weight: 700\; font-family: &quot\;Roboto Slab&quot\;\, serif\; font-size: 12px\;">Turkey Calling Contest</span><span style="font-family: &quot\;Roboto Slab&quot\;\, serif\; font-size: 12px\;">: 11 a.m. &amp\; 1:30 p.m.</span><br style="box-sizing: border-box\; font-family: &quot\;Roboto Slab&quot\;\, serif\; font-size: 12px\;" />\n<br style="box-sizing: border-box\; font-family: &quot\;Roboto Slab&quot\;\, serif\; font-size: 12px\;" />\n<span style="box-sizing: border-box\; font-weight: 700\; font-family: &quot\;Roboto Slab&quot\;\, serif\; font-size: 12px\;">Sunday\, Nov. 5\, 9am - 3pm</span><br style="box-sizing: border-box\;" />\n<br style="box-sizing: border-box\;" />\n&nbsp\;
LOCATION:Fairplex 1101 McKinley Ave. Pomona
UID:e.1883.419
SEQUENCE:3
DTSTAMP:20260423T032808Z
URL:https://business.lavernechamber.org/events/details/fall-in-the-farm-419
END:VEVENT

END:VCALENDAR
