BEGIN:VCALENDAR
VERSION:2.0
PRODID:-//ChamberMaster//Event Calendar 2.0//EN
METHOD:PUBLISH
X-PUBLISHED-TTL:P3D
REFRESH-INTERVAL:P3D
CALSCALE:GREGORIAN
BEGIN:VEVENT
DTSTART:20191220T020000Z
DTEND:20191220T033000Z
X-MICROSOFT-CDO-ALLDAYEVENT:FALSE
SUMMARY:Family Holiday Storytime
DESCRIPTION:Traditional Holiday stories followed by decorating gingerbread cookies. Materials are limited please sign up in advance. Sign ups start December 2\, by phone or in person.\n\n*Parents please be aware food will be used during this program. A list of ingredients will be available.
X-ALT-DESC;FMTTYPE=text/html:<div><span style="font-size: 13px\;">Traditional Holiday stories followed by decorating gingerbread cookies. Materials are limited please sign up in advance. Sign ups start December 2\, by phone or in person.</span></div>\n\n<div><span style="font-size: 13px\;">*Parents please be aware food will be used during this program. A list of ingredients will be available.</span></div>\n
LOCATION:La Verne Public Library
UID:e.1883.2136
SEQUENCE:3
DTSTAMP:20260421T161754Z
URL:https://business.lavernechamber.org/events/details/family-holiday-storytime-2136
END:VEVENT

END:VCALENDAR
