BEGIN:VCALENDAR
VERSION:2.0
PRODID:-//ChamberMaster//Event Calendar 2.0//EN
METHOD:PUBLISH
X-PUBLISHED-TTL:P3D
REFRESH-INTERVAL:P3D
CALSCALE:GREGORIAN
BEGIN:VEVENT
DTSTART:20180719T013000Z
DTEND:20180719T023000Z
X-MICROSOFT-CDO-ALLDAYEVENT:FALSE
SUMMARY:Family Storytime at the La Verne Library
DESCRIPTION:Enjoy great stories\, songs and art activities.\n\nFor children ages 3-12 and their caregivers.
X-ALT-DESC;FMTTYPE=text/html:Enjoy great stories\, songs and art activities.<br />\nFor children ages 3-12 and their caregivers.&nbsp\;
LOCATION:La Verne Library 3640 D Street
UID:e.1883.714
SEQUENCE:3
DTSTAMP:20260422T133932Z
URL:https://business.lavernechamber.org/events/details/family-storytime-at-the-la-verne-library-714
END:VEVENT

END:VCALENDAR
