BEGIN:VCALENDAR
VERSION:2.0
PRODID:-//ChamberMaster//Event Calendar 2.0//EN
METHOD:PUBLISH
X-PUBLISHED-TTL:P3D
REFRESH-INTERVAL:P3D
CALSCALE:GREGORIAN
BEGIN:VEVENT
DTSTART:20180720T210000Z
DTEND:20180720T220000Z
X-MICROSOFT-CDO-ALLDAYEVENT:FALSE
SUMMARY:Fantastic Friday's at the La Verne Library
DESCRIPTION:Did someone say clowns?\n\nCome out to experience singing\, dancing\, juggling\, stilt walking\, dancing bears and flying cows!
X-ALT-DESC;FMTTYPE=text/html:Did someone say clowns?<br />\nCome out to experience singing\, dancing\, juggling\, stilt walking\, dancing bears and flying cows!
LOCATION:La Verne Library 3640 D Street
UID:e.1883.709
SEQUENCE:3
DTSTAMP:20260422T133614Z
URL:https://business.lavernechamber.org/events/details/fantastic-friday-s-at-the-la-verne-library-709
END:VEVENT

END:VCALENDAR
