BEGIN:VCALENDAR
VERSION:2.0
PRODID:-//ChamberMaster//Event Calendar 2.0//EN
METHOD:PUBLISH
X-PUBLISHED-TTL:P3D
REFRESH-INTERVAL:P3D
CALSCALE:GREGORIAN
BEGIN:VEVENT
DTSTART:20180727T210000Z
DTEND:20180727T220000Z
X-MICROSOFT-CDO-ALLDAYEVENT:FALSE
SUMMARY:Fantastic Friday's at the La Verne Library
DESCRIPTION:Do you love to dance?\n\nCome learn your own choreographed dance and perform it at the end
X-ALT-DESC;FMTTYPE=text/html:Do you love to dance?<br />\nCome learn your own choreographed dance and perform it at the end
LOCATION:La Verne Library 3640 D Street
UID:e.1883.710
SEQUENCE:3
DTSTAMP:20260422T133615Z
URL:https://business.lavernechamber.org/events/details/fantastic-friday-s-at-the-la-verne-library-710
END:VEVENT

END:VCALENDAR
