BEGIN:VCALENDAR
VERSION:2.0
PRODID:-//ChamberMaster//Event Calendar 2.0//EN
METHOD:PUBLISH
X-PUBLISHED-TTL:P3D
REFRESH-INTERVAL:P3D
CALSCALE:GREGORIAN
BEGIN:VEVENT
DTSTART:20190330T140000Z
DTEND:20190330T190000Z
X-MICROSOFT-CDO-ALLDAYEVENT:FALSE
SUMMARY:Fight Like a Girl Fundraiser
DESCRIPTION:Barre Element invites you to Fight Like A Girl to support an AMAZING Lady!\n\n\n\nOn Saturday March 30th\, Barre Element will be offering 30 minute classes for $10!!\n\n\n\nAll procedes will directly benefit Ci'Monique\, one of our awesome instructers\,  to help her fight her second round of breast cancer.\n\n\n\nOther donations greatly appreciated:\n\nWe are also looking for raffle prize donations! Please bring donations to the studio by Thursday March 28th\, or call for pick up!
X-ALT-DESC;FMTTYPE=text/html:Barre Element invites you to Fight Like A Girl to support an AMAZING Lady!<br />\n<br />\nOn Saturday March 30th\, Barre Element will be offering 30 minute classes for $10!!<br />\n<br />\nAll procedes will directly benefit Ci&#39\;Monique\, one of our awesome instructers\,&nbsp\; to help her fight her second round of breast cancer.<br />\n<br />\nOther donations greatly appreciated:<br />\nWe are also looking for raffle prize donations! Please bring donations to the studio by Thursday March 28th\, or call for pick up!
LOCATION:Barre Element 2117 Foothill Blvd.
UID:e.1883.1338
SEQUENCE:3
DTSTAMP:20260422T012020Z
URL:https://business.lavernechamber.org/events/details/fight-like-a-girl-fundraiser-1338
END:VEVENT

END:VCALENDAR
