BEGIN:VCALENDAR
VERSION:2.0
PRODID:-//ChamberMaster//Event Calendar 2.0//EN
METHOD:PUBLISH
X-PUBLISHED-TTL:P3D
REFRESH-INTERVAL:P3D
CALSCALE:GREGORIAN
BEGIN:VEVENT
DTSTART:20180117T180000Z
DTEND:20180117T190000Z
X-MICROSOFT-CDO-ALLDAYEVENT:FALSE
SUMMARY:Financial Projections Webinar
DESCRIPTION:Don't miss your opportu nity to learn how to:\n\nDetermine the feasibility of your business idea\n\nCalculate the break-even sales volume\n\nPrepare financial projections often needed for an SBA loan\n\n\n\n \n\nRegister Now\n\nhttp://bit.ly/2z5jXLr
X-ALT-DESC;FMTTYPE=text/html:<p>Don&#39\;t miss your opportu nity to learn how to:</p>\n\n<p>Determine the feasibility of your business idea</p>\n\n<p>Calculate the break-even sales volume</p>\n\n<p>Prepare financial projections often needed for an SBA loan<br />\n<br />\n&nbsp\;</p>\n\n<p><strong>Register Now</strong></p>\n\n<p><strong>http://bit.ly/2z5jXLr</strong></p>\n
LOCATION:Webinar Register Now http://bit.ly/2z5jXLr
UID:e.1883.474
SEQUENCE:3
DTSTAMP:20260422T225850Z
URL:https://business.lavernechamber.org/events/details/financial-projections-webinar-01-17-2018-474
END:VEVENT

END:VCALENDAR
