BEGIN:VCALENDAR
VERSION:2.0
PRODID:-//ChamberMaster//Event Calendar 2.0//EN
METHOD:PUBLISH
X-PUBLISHED-TTL:P3D
REFRESH-INTERVAL:P3D
CALSCALE:GREGORIAN
BEGIN:VEVENT
DTSTART:20170705T020000Z
DTEND:20170705T043000Z
X-MICROSOFT-CDO-ALLDAYEVENT:FALSE
SUMMARY:Fireworks Show
DESCRIPTION:"American Proud" with a spectacular pyrotechnic show at Bonita High School Stadium\, 3102 D Street. 5:00 p.m. Ticket booths open 6:00 p.m. Gates open 7:00 p.m. Show time 9:30 p.m. Show concludes Adult tickets (13 & up) are $7\, children's tickets (ages 5 to 12) are $6\, and children 4 and under are free. Pre-sale tickets are discounted by $1 per ticket if bought before July 4th. For ticket locations contact the Community Services Office at (909) 596-8700. Cash sales only! The Answer will provide pre-firework entertainment. Please note that Bonita High School has an artificial turf field. No BBQ's\, open flames\, other incendiary devices\, pets\, sunflower or pumpkins seeds\, umbrellas\, stakes\, or any other items which may damage the turf are permitted in the stadium or anywhere on the field.
X-ALT-DESC;FMTTYPE=text/html:&ldquo\;American Proud&rdquo\; with a spectacular pyrotechnic show at Bonita High School Stadium\, 3102 D Street. 5:00 p.m. Ticket booths open 6:00 p.m. Gates open 7:00 p.m. Show time 9:30 p.m. Show concludes Adult tickets (13 &amp\; up) are $7\, children&rsquo\;s tickets (ages 5 to 12) are $6\, and children 4 and under are free. Pre-sale tickets are discounted by $1 per ticket if bought before July 4th. For ticket locations contact the Community Services Office at (909) 596-8700. Cash sales only! The Answer will provide pre-firework entertainment. Please note that Bonita High School has an artificial turf field. No BBQ&rsquo\;s\, open flames\, other incendiary devices\, pets\, sunflower or pumpkins seeds\, umbrellas\, stakes\, or any other items which may damage the turf are permitted in the stadium or anywhere on the field.
LOCATION:Bonita High School Stadium 3102 D Street.
UID:e.1883.165
SEQUENCE:3
DTSTAMP:20260423T080911Z
URL:https://business.lavernechamber.org/events/details/fireworks-show-165
END:VEVENT

END:VCALENDAR
