BEGIN:VCALENDAR
VERSION:2.0
PRODID:-//ChamberMaster//Event Calendar 2.0//EN
METHOD:PUBLISH
X-PUBLISHED-TTL:P3D
REFRESH-INTERVAL:P3D
CALSCALE:GREGORIAN
BEGIN:VEVENT
DTSTART:20170804T003000Z
DTEND:20170804T023000Z
X-MICROSOFT-CDO-ALLDAYEVENT:FALSE
SUMMARY:Foothill Gold Line Community Information Meeting
DESCRIPTION:The Foothill Gold Line from Glendora to Montclair is breaking ground in October 2017.  Ahead of the groundbreaking\, the Construction Authority is hosting community meetings in July and August to share the latest information on the 12.3-mile\, six-station Foothill Gold Line light rail project. Attend a community information meeting to learn the latest about the Project's timeline\, what to expect during construction\, the latest station and parking plans\, public art and how to stay updated. All meetings will display the same information\, so attend the one that is most convenient for you.\n\n \n\n  Link:  \n\nFor more information on the meetings or to learn more about the Foothill Gold Line light rail project:\n\nhttp://www.foothillgoldline.org/
X-ALT-DESC;FMTTYPE=text/html:<span style="font-family:calibri\,sans-serif\;"><span style="font-size:11.0pt\;">The Foothill Gold Line from Glendora to Montclair is breaking ground in October 2017.&nbsp\; Ahead of the groundbreaking\, the Construction Authority is hosting community meetings in July and August to share the latest information on the 12.3-mile\, six-station Foothill Gold Line light rail project. Attend a community information meeting to learn the latest about the Project&rsquo\;s timeline\, what to expect during construction\, the latest station and parking plans\, public art and how to stay updated. All meetings will display the same information\, so attend the one that is most convenient for you.</span></span><br />\n&nbsp\;<br />\n&ndash\;&nbsp\;<em>Link</em>: &nbsp\;<br />\nFor more information on the meetings or to learn more about the Foothill Gold Line light rail project:<br />\n<span style="font-family:times new roman\,serif\;"><span style="font-size:12.0pt\;"><a href="http://www.foothillgoldline.org/">http://www.foothillgoldline.org/</a></span></span>
LOCATION:Hillcrest 2705 Mountain View Drive
UID:e.1883.170
SEQUENCE:3
DTSTAMP:20260423T081111Z
URL:https://business.lavernechamber.org/events/details/foothill-gold-line-community-information-meeting-170
END:VEVENT

END:VCALENDAR
