BEGIN:VCALENDAR
VERSION:2.0
PRODID:-//ChamberMaster//Event Calendar 2.0//EN
METHOD:PUBLISH
X-PUBLISHED-TTL:P3D
REFRESH-INTERVAL:P3D
CALSCALE:GREGORIAN
BEGIN:VEVENT
DTSTART:20181211T013000Z
DTEND:20181211T033000Z
X-MICROSOFT-CDO-ALLDAYEVENT:FALSE
SUMMARY:Foothill Gold Line Public Scoping Meeting
DESCRIPTION:You are invited to attend a Public Scoping Meeting hosted by the Foothill Gold Line Construction Authority. The purpose of this meeting is to discuss a proposed modification to the possible phasing of construction and operation for the 12.3-mile\, six-station Glendora to Montclair Project\, and a proposed modification to the location of the future parking facility at the Pomona North Station.\n\n\n\n  \n\nThe Construction Authority proposes to modify the Glendora to Montclair Project to allow for the potential to construct and operate the Project in four phases (instead of two phases\, as previously approved). See map below for details. In response to this proposed change\, the Construction Authority will be initiating the preparation of a Supplemental Environmental Impact Report (SEIR) to evaluate the potential for significant impacts that may result from the different potential construction and operation phasing options under review\, including: Phase 1-to La Verne/Pomona Fairplex Station\; Phase 2-to Pomona North Station\; Phase 3-to Claremont Station\; and Phase 4-to Montclair Station.  The SEIR will also evaluate the potential for significant impacts that may result from relocating the future parking facility at the Pomona North Station from the north side of the station to the south side.
X-ALT-DESC;FMTTYPE=text/html:<strong>You are invited</strong> to attend a Public Scoping Meeting hosted by the Foothill Gold Line Construction Authority. The purpose of this meeting is to discuss a proposed modification to the possible phasing of construction and operation for the 12.3-mile\, six-station Glendora to Montclair Project\, and a proposed modification to the location of the future parking facility at the Pomona North Station.<br />\n<br />\n&nbsp\;&nbsp\;<br />\nThe Construction Authority proposes to modify the Glendora to Montclair Project to allow for the potential to construct and operate the Project in four phases (instead of two phases\, as previously approved). See map below for details. In response to this proposed change\, the Construction Authority will be initiating the preparation of a Supplemental Environmental Impact Report (SEIR) to evaluate the potential for significant impacts that may result from the different potential construction and operation phasing options under review\, including: Phase 1-to La Verne/Pomona Fairplex Station\; Phase 2-to Pomona North Station\; Phase 3-to Claremont Station\; and Phase 4-to Montclair Station.&nbsp\; The SEIR will also evaluate the potential for significant impacts that may result from relocating the future parking facility at the Pomona North Station from the north side of the station to the south side.
LOCATION:La Verne Community Center 3680 D Street\, La Verne CA 91750
UID:e.1883.1253
SEQUENCE:3
DTSTAMP:20260422T055646Z
URL:https://business.lavernechamber.org/events/details/foothill-gold-line-public-scoping-meeting-1253
END:VEVENT

END:VCALENDAR
