BEGIN:VCALENDAR
VERSION:2.0
PRODID:-//ChamberMaster//Event Calendar 2.0//EN
METHOD:PUBLISH
X-PUBLISHED-TTL:P3D
REFRESH-INTERVAL:P3D
CALSCALE:GREGORIAN
BEGIN:VEVENT
DTSTART:20191030T140000Z
DTEND:20191031T060000Z
X-MICROSOFT-CDO-ALLDAYEVENT:FALSE
SUMMARY:Free Beyond Taco\, Free Beyond Avocado Taco or The Del Taco. 1 day promotion on Wednesday\, October 30
DESCRIPTION:To drive Guests into our restaurants\, we will be offering a 1 day promotion on Wednesday\, October 30 for a Free Beyond Taco\, Free Beyond Avocado Taco or The Del Taco. :
X-ALT-DESC;FMTTYPE=text/html:To drive Guests into our restaurants\, we will be offering<strong> a 1 day promotion</strong> on <strong>Wednesday\, October 30</strong> for a <strong><u>Free Beyond Taco\, Free Beyond Avocado Taco or The Del Taco.</u> </strong>:<br />\n&nbsp\;
LOCATION:Del Taco
UID:e.1883.2053
SEQUENCE:3
DTSTAMP:20260421T145302Z
URL:https://business.lavernechamber.org/events/details/free-beyond-taco-free-beyond-avocado-taco-or-the-del-taco-1-day-promotion-on-wednesday-october-30-2053
END:VEVENT

END:VCALENDAR
