BEGIN:VCALENDAR
VERSION:2.0
PRODID:-//ChamberMaster//Event Calendar 2.0//EN
METHOD:PUBLISH
X-PUBLISHED-TTL:P3D
REFRESH-INTERVAL:P3D
CALSCALE:GREGORIAN
BEGIN:VEVENT
DTSTART:20190305T210000Z
DTEND:20190305T230000Z
X-MICROSOFT-CDO-ALLDAYEVENT:FALSE
SUMMARY:FREE Business Seminar How to Prepare and File From 571-L
DESCRIPTION:The Office of Los Angeles County Assessor Jeffrey Prang is hosting free seminars designed to help business owners file the annual Business Property Statement (571-L). The seminars include a 45-minute presentation\, followed by a question and answer session.\n\n\n	\n	E-File and other services\n	\n	\n	Legal rules and requirements\n	\n	\n	Assessed value appeal process\n	\n	\n	Classifying personal property and fixtures
X-ALT-DESC;FMTTYPE=text/html:<h2 style="margin: 0px\; padding: 0px\; color: rgb(30\, 10\, 60)\; font-size: 17px\; line-height: 21px\; font-weight: 600\; font-family: &quot\;Neue Plak&quot\;\, -apple-system\, BlinkMacSystemFont\, Roboto\, &quot\;Helvetica Neue&quot\;\, Helvetica\, Tahoma\, Arial\, sans-serif\; letter-spacing: 0.5px\;">The Office of Los Angeles County Assessor Jeffrey Prang is hosting free seminars designed to help business owners file the annual Business Property Statement (571-L). The seminars include a 45-minute presentation\, followed by a question and answer session.</h2>\n\n<ul style="margin: 0px\; padding-top: 10px\; padding-right: 0px\; padding-left: 2em\; list-style-position: initial\; list-style-image: initial\; color: rgb(111\, 114\, 135)\; font-family: &quot\;Neue Plak&quot\;\, -apple-system\, BlinkMacSystemFont\, Roboto\, &quot\;Helvetica Neue&quot\;\, Helvetica\, Tahoma\, Arial\, sans-serif\; font-size: 15px\; letter-spacing: 0.5px\;">\n	<li style="margin: 0px\; padding: 0px\;">\n	<h2 style="margin: 0px\; padding: 0px\; color: rgb(30\, 10\, 60)\; font-size: 17px\; line-height: 21px\; font-weight: 600\;">E-File and other services</h2>\n	</li>\n	<li style="margin: 0px\; padding: 5px 0px 0px\;">\n	<h2 style="margin: 0px\; padding: 0px\; color: rgb(30\, 10\, 60)\; font-size: 17px\; line-height: 21px\; font-weight: 600\;">Legal rules and requirements</h2>\n	</li>\n	<li style="margin: 0px\; padding: 5px 0px 0px\;">\n	<h2 style="margin: 0px\; padding: 0px\; color: rgb(30\, 10\, 60)\; font-size: 17px\; line-height: 21px\; font-weight: 600\;">Assessed value appeal process</h2>\n	</li>\n	<li style="margin: 0px\; padding: 5px 0px 0px\;">\n	<h2 style="margin: 0px\; padding: 0px\; color: rgb(30\, 10\, 60)\; font-size: 17px\; line-height: 21px\; font-weight: 600\;">Classifying personal property and fixtures</h2>\n	</li>\n</ul>\n
LOCATION:Pomona Public Library 625 South Garey Ave. Pomona\, CA 91766
UID:e.1883.1293
SEQUENCE:3
DTSTAMP:20260422T012253Z
URL:https://business.lavernechamber.org/events/details/free-business-seminar-how-to-prepare-and-file-from-571-l-1293
END:VEVENT

END:VCALENDAR
