BEGIN:VCALENDAR
VERSION:2.0
PRODID:-//ChamberMaster//Event Calendar 2.0//EN
METHOD:PUBLISH
X-PUBLISHED-TTL:P3D
REFRESH-INTERVAL:P3D
CALSCALE:GREGORIAN
BEGIN:VEVENT
DTSTART:20190913T010000Z
DTEND:20190913T014500Z
X-MICROSOFT-CDO-ALLDAYEVENT:FALSE
SUMMARY:FREE Concert at La Verne Public Library\, Rosalie Elena
DESCRIPTION:Join us for the end of our summer program with Grammy award winner\, Rosalie Elena Rodriguez\, who is no stranger to the blending of Latin American roots and rhythms. A Mexican-American\, Puerto Rican-native of California and a 3rd generation Mariachi musician\, she is uniquely gifted with a sultry style that blends tropical\, afro-peruvian\, jazz\, and mariachi flavors. Her first solo album\, Frente a Frente\, opens the door to the intimacy of love\, loss\, and pain while seamlessly fusing traditional Cuban and Mexican bolero with the Afro-rooted Peruvian sounds of the Cajon.\n\nAll ages welcome.\n\nThis concert is made possible through an LA County Arts Commission Grant provided by LA County Supervisor Kathryn Barger.
X-ALT-DESC;FMTTYPE=text/html:<p style="box-sizing: border-box\; margin: 0px 0px 5px\; padding: 0px 0px 8px\; border: 0px\; font-variant-numeric: inherit\; font-variant-east-asian: inherit\; font-stretch: inherit\; line-height: 18.2px\; font-family: gibson-regular-webfont\; vertical-align: baseline\; position: relative\; letter-spacing: 0.7px\; color: rgb(0\, 0\, 0)\; float: none\; background-color: rgb(245\, 245\, 245)\;">Join us for the end of our summer program with Grammy award winner\, Rosalie Elena Rodriguez\, who is no stranger to the blending of Latin American roots and rhythms. A Mexican-American\, Puerto Rican-native of California and a 3rd generation Mariachi musician\, she is uniquely gifted with a sultry style that blends tropical\, afro-peruvian\, jazz\, and mariachi flavors. Her first solo album\,&nbsp\;<em style="box-sizing: border-box\; margin: 0px\; padding: 0px\; border: 0px\; font-variant: inherit\; font-weight: inherit\; font-stretch: inherit\; font-size: inherit\; line-height: inherit\; font-family: inherit\; vertical-align: baseline\;">Frente a Frente</em>\, opens the door to the intimacy of love\, loss\, and pain while seamlessly fusing traditional Cuban and Mexican bolero with the Afro-rooted Peruvian sounds of the Cajon.</p>\n\n<p style="box-sizing: border-box\; margin: 0px 0px 5px\; padding: 0px 0px 8px\; border: 0px\; font-variant-numeric: inherit\; font-variant-east-asian: inherit\; font-stretch: inherit\; line-height: 18.2px\; font-family: gibson-regular-webfont\; vertical-align: baseline\; position: relative\; letter-spacing: 0.7px\; color: rgb(0\, 0\, 0)\; float: none\; background-color: rgb(245\, 245\, 245)\;">All ages welcome.</p>\n\n<p style="box-sizing: border-box\; margin: 0px 0px 5px\; padding: 0px 0px 8px\; border: 0px\; font-variant-numeric: inherit\; font-variant-east-asian: inherit\; font-stretch: inherit\; line-height: 18.2px\; font-family: gibson-regular-webfont\; vertical-align: baseline\; position: relative\; letter-spacing: 0.7px\; color: rgb(0\, 0\, 0)\; float: none\; background-color: rgb(245\, 245\, 245)\;">This concert is made possible through an LA County Arts Commission Grant provided by LA County Supervisor Kathryn Barger.</p>\n
LOCATION:La Verne Public Library
UID:e.1883.1740
SEQUENCE:3
DTSTAMP:20260421T175458Z
URL:https://business.lavernechamber.org/events/details/free-concert-at-la-verne-public-library-rosalie-elena-1740
END:VEVENT

END:VCALENDAR
