BEGIN:VCALENDAR
VERSION:2.0
PRODID:-//ChamberMaster//Event Calendar 2.0//EN
METHOD:PUBLISH
X-PUBLISHED-TTL:P3D
REFRESH-INTERVAL:P3D
CALSCALE:GREGORIAN
BEGIN:VEVENT
DTSTART:20181117T170000Z
DTEND:20181117T210000Z
X-MICROSOFT-CDO-ALLDAYEVENT:FALSE
SUMMARY:Free Filters for a Cleaner Future Bring a used oil filter and get a new one for FREE
DESCRIPTION:The City of La Verne will be holding a used motor oil filter exchange event on November 17\, 2018 from 9:00 a.m. to 1:00 p.m. at AutoZone\, 1410 Foothill Boulevard. In exchange for their used motor oil filters\, residents will receive new motor oil filters free of charge (La Verne residents may receive up to 2 new filters in exchange for 2 used filters\; filters valued up to $12\; while supplies last ). After your next oil change\, bring in your used oil and filter and receive vouchers for new oil filters to redeem at this one-day recycling event.\n\n"Used motor oil and filters are highly recyclable\," says Kevin Sales\, La Verne's Used Oil Recycling Program coordinator. "The City wants to make used motor oil and filter recycling as easy for the Do-It-Yourselfer as possible. Both the oil and the steel from the automotive filter will be recycled\; and you can redeem your filter voucher immediately for a free oil filter from AutoZone."\n\nThe City of La Verne encourages all residents to participate in the event and to recycle their used motor oil and filters. Supplementary educational materials will be available as well as additional oil change materials for eligible participants.\n\nOther used oil collection centers can be located by calling 888-CLEAN-LA\, or visiting www.CleanLA.com. Further information regarding the Filter Exchange Event can be obtained by contacting Kevin Sales at (562)-944-4766.\n\nFunded by CalRecycle
X-ALT-DESC;FMTTYPE=text/html:The City of La Verne will be holding a used motor oil filter exchange event on November 17\, 2018 from 9:00 a.m. to 1:00 p.m. at AutoZone\, 1410 Foothill Boulevard. In exchange for their used motor oil filters\, residents will receive new motor oil filters free of charge (La Verne residents may receive up to 2 new filters in exchange for 2 used filters\; filters valued up to $12\; while supplies last&shy\;). After your next oil change\, bring in your used oil and filter and receive vouchers for new oil filters to redeem at this one-day recycling event.<br />\n&quot\;Used motor oil and filters are highly recyclable\,&quot\; says Kevin Sales\, La Verne&rsquo\;s Used Oil Recycling Program coordinator. &quot\;The City wants to make used motor oil and filter recycling as easy for the Do-It-Yourselfer as possible. Both the oil and the steel from the automotive filter will be recycled\; and you can redeem your filter voucher immediately for a free oil filter from AutoZone.&quot\;<br />\nThe City of La Verne encourages all residents to participate in the event and to recycle their used motor oil and filters. Supplementary educational materials will be available as well as additional oil change materials for eligible participants.<br />\nOther used oil collection centers can be located by calling 888-CLEAN-LA\, or visiting&nbsp\;<span style="padding-top:0px\;">www.CleanLA.com</span>. Further information regarding the Filter Exchange Event can be obtained by contacting Kevin Sales at (562)-944-4766.<br />\n<span style="font-weight:700\;padding-top:0px\;">Funded by CalRecycle</span>
LOCATION:AutoZone 1410 Foothill Blvd.
UID:e.1883.1245
SEQUENCE:3
DTSTAMP:20260422T090937Z
URL:https://business.lavernechamber.org/events/details/free-filters-for-a-cleaner-future-bring-a-used-oil-filter-and-get-a-new-one-for-free-1245
END:VEVENT

END:VCALENDAR
