BEGIN:VCALENDAR
VERSION:2.0
PRODID:-//ChamberMaster//Event Calendar 2.0//EN
METHOD:PUBLISH
X-PUBLISHED-TTL:P3D
REFRESH-INTERVAL:P3D
CALSCALE:GREGORIAN
BEGIN:VEVENT
DTSTART:20190704T190000Z
DTEND:20190704T230000Z
X-MICROSOFT-CDO-ALLDAYEVENT:FALSE
SUMMARY:Free Swim
DESCRIPTION:Come join the fun! The La Verne Aquatics Center\, will host FREE swim!
X-ALT-DESC;FMTTYPE=text/html:Come join the fun! The La Verne Aquatics Center\, will host FREE swim!
LOCATION:La Verne Aquatics Center
UID:e.1883.1442
SEQUENCE:3
DTSTAMP:20260421T190636Z
URL:https://business.lavernechamber.org/events/details/free-swim-1442
END:VEVENT

END:VCALENDAR
