BEGIN:VCALENDAR
VERSION:2.0
PRODID:-//ChamberMaster//Event Calendar 2.0//EN
METHOD:PUBLISH
X-PUBLISHED-TTL:P3D
REFRESH-INTERVAL:P3D
CALSCALE:GREGORIAN
BEGIN:VEVENT
DTSTART:20170704T190000Z
DTEND:20170704T230000Z
X-MICROSOFT-CDO-ALLDAYEVENT:FALSE
SUMMARY:Free Swim
DESCRIPTION:Come join the fun! The La Verne Aquatics Center\, 3175 Bolling Ave.\, will host FREE swim on Tuesday\, July 4\, from 12:00 - 4:00 p.m.
X-ALT-DESC;FMTTYPE=text/html:Come join the fun! The La Verne Aquatics Center\, 3175 Bolling Ave.\, will host FREE swim on Tuesday\, July 4\, from 12:00 - 4:00 p.m.
LOCATION:La Verne Aquatics Center 3175 Bolling Ave
UID:e.1883.163
SEQUENCE:3
DTSTAMP:20260423T093506Z
URL:https://business.lavernechamber.org/events/details/free-swim-163
END:VEVENT

END:VCALENDAR
