BEGIN:VCALENDAR
VERSION:2.0
PRODID:-//ChamberMaster//Event Calendar 2.0//EN
METHOD:PUBLISH
X-PUBLISHED-TTL:P3D
REFRESH-INTERVAL:P3D
CALSCALE:GREGORIAN
BEGIN:VEVENT
DTSTART:20171012T013000Z
DTEND:20171012T033000Z
X-MICROSOFT-CDO-ALLDAYEVENT:FALSE
SUMMARY:FREE Workshop: Ethical\, Impact & Socially Responsible Investing
DESCRIPTION:Ethical\, Impact   & Socially  Responsible Investing:  Before and  During Retirement\n\n\n\nWhether your concerns are environmental. social or governance related (ESG). your voice can be heard while maintaining an intelligent investment strategy. Take this course and learn the basics of Socially Responsible Investing (SRI).\n\n \nCourse Overview\nParticipants in this course will understand how to design. evaluate. and manage a complete ethical portfolio using Socially Responsible screens and the most up to date tools. Learn  to  gauge the  degree  to which your investment portfolio reflects your values. Gain insights to the trade-offs between ethical investing and performance. Upon completion of this course. you will be familiar with the resources available to help evaluate. establish. and monitor a portfolio which best reflects your 0 ESG.. &  "SRI" values.
X-ALT-DESC;FMTTYPE=text/html:<div>\n<h1 style="margin: 17.25pt 0in 0.0001pt 8.05pt\;"><span style="font-size:16px\;"><span style="color:#010303\;">Ethical\, Impact&nbsp\;&nbsp\; </span><span style="color:#010303\;"><span style="font-family:arial\,sans-serif\;">&amp\; </span></span><span style="color:#010303\;">Socially&nbsp\; Responsible&nbsp\;</span></span><span style="font-size:16px\;"><span style="color:#010303\;">Investing:&nbsp\; Before and&nbsp\; During Retirement</span></span></h1>\n</div>\n<br />\n<span style="color:#010303\;">Whether your concerns are environmental. social or governance related (ESG). your voice can be heard while maintaining an intelligent investment strategy. Take this course and learn the basics of Socially Responsible Investing (SRI).</span><br />\n&nbsp\;\n<h1><span style="font-size:16px\;"><span style="color:#010303\;">Course Overview</span></span></h1>\n<span style="color:#010303\;">Participants in this course will understand how to design. evaluate. and manage a complete ethical portfolio using Socially Responsible screens and the most up to date tools. Learn&nbsp\; to&nbsp\; gauge the&nbsp\; degree&nbsp\; to which your investment portfolio reflects your values. Gain insights to the trade-offs between ethical investing and performance. Upon completion of this course. you will be familiar with the resources available to help evaluate. establish. and monitor a portfolio which best reflects your </span><span style="position:relative\;top:-8.5pt\;"><span style="color:#010303\;"><span style="font-family:arial\,sans-serif\;"><span style="font-size:5.0pt\;">0 </span></span></span></span><span style="letter-spacing:-.2pt\;"><span style="color:#010303\;">ESG.. </span></span><span style="color:#010303\;"><span style="font-size:15.5pt\;"><span style="font-size:14px\;">&amp\;</span>&nbsp\; </span></span><span style="color:#010303\;">&quot\;SRI&quot\; values.</span><br />\n&nbsp\;
LOCATION:In-person\, instructor-led class at University of La Verne Main Campus 1950 Third St. La Verne CA 91750
UID:e.1883.358
SEQUENCE:3
DTSTAMP:20260423T050250Z
URL:https://business.lavernechamber.org/events/details/free-workshop-ethical-impact-socially-responsible-investing-358
END:VEVENT

END:VCALENDAR
