BEGIN:VCALENDAR
VERSION:2.0
PRODID:-//ChamberMaster//Event Calendar 2.0//EN
METHOD:PUBLISH
X-PUBLISHED-TTL:P3D
REFRESH-INTERVAL:P3D
CALSCALE:GREGORIAN
BEGIN:VEVENT
DTSTART:20180127T180000Z
DTEND:20180127T220000Z
X-MICROSOFT-CDO-ALLDAYEVENT:FALSE
SUMMARY:Garbage to Garden - Begining
DESCRIPTION:Composting and Vermicomposting Workshop open to the public. Compost and Worm Bins available for sale after the workshop.This is an Beginning workshop.
X-ALT-DESC;FMTTYPE=text/html:<span style="color: rgb(75\, 79\, 86)\; font-family: Helvetica\, Arial\, sans-serif\; font-size: 14px\;">Composting and Vermicomposting Workshop open to the public. Compost and Worm Bins available for sale after the workshop.This is an Beginning workshop.</span>
LOCATION:The Farm at Fairplex 1101 W McKinley Ave Pomona
UID:e.1883.527
SEQUENCE:3
DTSTAMP:20260422T225818Z
URL:https://business.lavernechamber.org/events/details/garbage-to-garden-begining-527
END:VEVENT

END:VCALENDAR
