BEGIN:VCALENDAR
VERSION:2.0
PRODID:-//ChamberMaster//Event Calendar 2.0//EN
METHOD:PUBLISH
X-PUBLISHED-TTL:P3D
REFRESH-INTERVAL:P3D
CALSCALE:GREGORIAN
BEGIN:VEVENT
DTSTART:20170720T150000Z
DTEND:20170720T193000Z
X-MICROSOFT-CDO-ALLDAYEVENT:FALSE
SUMMARY:GET MARKETING & GET GROWING MID-YEAR CHECK UP w/ University of La Verne SBDC & Constant Contact
DESCRIPTION:Social media\, email marketing and video are important marketing tools that every business\n\nand non-profit should be using. We will look at trends\, tips and tricks\, tools\, ideas\, and\n\nstrategies along with the importance of keeping tabs on your competition. We will look at real\n\nworld examples that get results!
X-ALT-DESC;FMTTYPE=text/html:Social media\, email marketing and video are important marketing tools that every business<br />\nand non-profit should be using. We will look at trends\, tips and tricks\, tools\, ideas\, and<br />\nstrategies along with the importance of keeping tabs on your competition. We will look at real<br />\nworld examples that get results!
LOCATION:University of La Verne Campus Center 3rd Floor 2000 2nd Street La Verne\, CA 91750
UID:e.1883.166
SEQUENCE:3
DTSTAMP:20260423T081457Z
URL:https://business.lavernechamber.org/events/details/get-marketing-get-growing-mid-year-check-up-w-university-of-la-verne-sbdc-constant-contact-166
END:VEVENT

END:VCALENDAR
