BEGIN:VCALENDAR
VERSION:2.0
PRODID:-//ChamberMaster//Event Calendar 2.0//EN
METHOD:PUBLISH
X-PUBLISHED-TTL:P3D
REFRESH-INTERVAL:P3D
CALSCALE:GREGORIAN
BEGIN:VEVENT
DTSTART:20190604T210000Z
DTEND:20190604T230000Z
X-MICROSOFT-CDO-ALLDAYEVENT:FALSE
SUMMARY:Give Cancer the Boot
DESCRIPTION:Come and celebrate cancer Survivor's Day \n\nas we give cancer the boot!\n\n\n	Line dancing\n	Snacks\n	Bring your smart phone to the photo booth\n\n\nGenerously Hosted by the Pomona ValleyHospital Medical Center
X-ALT-DESC;FMTTYPE=text/html:<p style="box-sizing: border-box\; line-height: 1.8\; margin: 0.75em 0px\; color: rgb(32\, 31\, 29)\; font-family: Lato\, sans-serif\; font-size: 17.5718px\; background-color: rgb(237\, 237\, 237)\;">Come and celebrate cancer Survivor&rsquo\;s Day&nbsp\;<br style="box-sizing: border-box\;" />\nas we give cancer the boot!</p>\n\n<ul style="box-sizing: border-box\; list-style-position: initial\; list-style-image: initial\; margin: 1em 0px\; padding-right: 0px\; padding-left: 2.5em\; color: rgb(32\, 31\, 29)\; font-family: Lato\, sans-serif\; font-size: 17.5718px\; background-color: rgb(237\, 237\, 237)\;">\n	<li style="box-sizing: border-box\;">Line dancing</li>\n	<li style="box-sizing: border-box\;">Snacks</li>\n	<li style="box-sizing: border-box\;">Bring your smart phone to the photo booth</li>\n</ul>\n\n<div style="box-sizing: border-box\;">Generously Hosted by the Pomona ValleyHospital Medical Center</div>\n
LOCATION:The Robert and Beverly Lewis Family Cancer Care Center
UID:e.1883.1417
SEQUENCE:3
DTSTAMP:20260421T204320Z
URL:https://business.lavernechamber.org/events/details/give-cancer-the-boot-1417
END:VEVENT

END:VCALENDAR
