BEGIN:VCALENDAR
VERSION:2.0
PRODID:-//ChamberMaster//Event Calendar 2.0//EN
METHOD:PUBLISH
X-PUBLISHED-TTL:P3D
REFRESH-INTERVAL:P3D
CALSCALE:GREGORIAN
BEGIN:VEVENT
DTSTART:20170621T163000Z
DTEND:20170621T183000Z
X-MICROSOFT-CDO-ALLDAYEVENT:FALSE
SUMMARY:Government Contracting Workshop
DESCRIPTION:Small Business Registration & Certification\n\nLearn about\n\n	County\, federal & state registration and certification requirements\n	California Public Utilities commission certification process\n	Leveraging your position
X-ALT-DESC;FMTTYPE=text/html:Small Business Registration &amp\; Certification<br />\nLearn about\n<ul>\n	<li>County\, federal &amp\; state registration and certification requirements</li>\n	<li>California Public Utilities commission certification process</li>\n	<li>Leveraging your position</li>\n</ul>\n
LOCATION:University of La Verne Campus Center 2000 2nd Street
UID:e.1883.126
SEQUENCE:3
DTSTAMP:20260423T094130Z
URL:https://business.lavernechamber.org/events/details/government-contracting-workshop-126
END:VEVENT

END:VCALENDAR
