BEGIN:VCALENDAR
VERSION:2.0
PRODID:-//ChamberMaster//Event Calendar 2.0//EN
METHOD:PUBLISH
X-PUBLISHED-TTL:P3D
REFRESH-INTERVAL:P3D
CALSCALE:GREGORIAN
BEGIN:VEVENT
DTSTART:20171027T000000Z
DTEND:20171027T040000Z
X-MICROSOFT-CDO-ALLDAYEVENT:FALSE
SUMMARY:Fall Festival hosted by Grace Miller Elementary PTA
DESCRIPTION:Our annual Fall Festival is held on Friday\, October 26\, 2017 from 5:00 pm   9:00 pm. This highly anticipated and well-attended event of over 3\,000 people brings families together to support our school. Some of the activities include: games\, rides/jumpers\, rock climbing wall\, local food vendors\, and the silent auction are just a few of the many activities at our annual Fall Festival.   Silent Auction is online with the preview starting now with bidding beginning October 21st starting at 8:30 pm. Now with Proxy bidding\, so you can bid up to any amount!! If you own a business and would like to submit a donation please contact us! Silent Auction items are due October 12th\, 2018.
X-ALT-DESC;FMTTYPE=text/html:<span style="font-family:times new roman"><span style="font-size:11.0pt">Our annual Fall Festival is held on <strong>Friday\, October 26\, 2017 from 5:00 pm &ndash\; 9:00 pm</strong>. This highly anticipated and well-attended event of over 3\,000 people brings families together to support our school. Some of the activities include: games\, rides/jumpers\, rock climbing wall\, local food vendors\, and the silent auction are just a few of the many activities at our annual Fall Festival. &nbsp\; <a href="http://biddingowl.com/GMPTA">Silent Auction</a> is online with the preview starting </span>now with bidding beginning October 21st starting at 8:30 pm. Now with Proxy bidding\, so you can bid up to any amount!<span style="font-size:11.0pt">! If you own a business and would like to submit a donation please contact us! Silent Auction items are due October 12th\, 2018.</span></span>
LOCATION:1629 Holly Oak Street\, La Verne\, CA 91750.
UID:e.1883.348
SEQUENCE:3
DTSTAMP:20260423T045553Z
URL:https://business.lavernechamber.org/events/details/grace-miller-elementary-pta-s-fall-festival-348
END:VEVENT

END:VCALENDAR
