BEGIN:VCALENDAR
VERSION:2.0
PRODID:-//ChamberMaster//Event Calendar 2.0//EN
METHOD:PUBLISH
X-PUBLISHED-TTL:P3D
REFRESH-INTERVAL:P3D
CALSCALE:GREGORIAN
BEGIN:VEVENT
DTSTART:20190223T200000Z
DTEND:20190224T000000Z
X-MICROSOFT-CDO-ALLDAYEVENT:FALSE
SUMMARY:Grand Opening Event @ Rockstars of Tomorrow
DESCRIPTION:Join us for the grand opening of Rockstars of Tomorrow Musicians Academy in La Verne as we celebrate (in true rock star style) our 4th music school in the Inland Empire. Check out some of the fun we'll be serving up:\n\n\n\nLIVE MUSIC by Rockstars Of Tomorrow bands\n\nK-CAL 96.7 FM live remote starting at 1pm\n\nTOURS of our uber-creative studio\n\nGIVEAWAYS including two guitars\, lessons & cool merch\n\nMEET & GREET with our talented instructors\n\nFREE REFRESHMENTS for all guests\n\nEXCLUSIVE DISCOUNTS available on music lessons\n\n\n\nSo\, just what makes us different from other music schools? A lot! Aside from teaching guitar\, voice\, piano/keys\, drums\, bass\, ukulele\, violin\, songwriting\, recording and performance\, we also offer music clinics and Summer band camps. We don't just teach our students how to play their instruments\, we get them out performing at authentic venues like House of Blues\, Whiskey-A-Go-Go as well as many charity and community events.\n\n\n\nYou won't want to miss this opportunity to explore the studio\, meet the instructors\, win some cool stuff\, and listen to some of the most talented young musicians around including our Rockstar Pro bands Sugar Bombs\, 94 Logic\, Tomorrow's Anthem\, Scattered Dreams\, and Unscripted. Bring the whole family to see (and hear) why we've been voted the best music school in the Inland Empire by Inland Empire Magazine two years in a row as well as being featured on Eyewitness News\, Good Day LA and CNN!
X-ALT-DESC;FMTTYPE=text/html:<span style="color: rgb(29\, 33\, 41)\; font-family: Helvetica\, Arial\, sans-serif\; font-size: 14px\; white-space: pre-wrap\;">Join us for the grand opening of Rockstars of Tomorrow Musicians Academy in La Verne as we celebrate (in true rock star style) our 4th music school in the Inland Empire. Check out some of the fun we&#39\;ll be serving up:</span><br style="color: rgb(29\, 33\, 41)\; font-family: Helvetica\, Arial\, sans-serif\; font-size: 14px\; white-space: pre-wrap\;" />\n<br style="color: rgb(29\, 33\, 41)\; font-family: Helvetica\, Arial\, sans-serif\; font-size: 14px\; white-space: pre-wrap\;" />\n<span style="color: rgb(29\, 33\, 41)\; font-family: Helvetica\, Arial\, sans-serif\; font-size: 14px\; white-space: pre-wrap\;">LIVE MUSIC by Rockstars Of Tomorrow bands</span><br style="color: rgb(29\, 33\, 41)\; font-family: Helvetica\, Arial\, sans-serif\; font-size: 14px\; white-space: pre-wrap\;" />\n<span style="color: rgb(29\, 33\, 41)\; font-family: Helvetica\, Arial\, sans-serif\; font-size: 14px\; white-space: pre-wrap\;">K-CAL 96.7 FM live remote starting at 1pm</span><br style="color: rgb(29\, 33\, 41)\; font-family: Helvetica\, Arial\, sans-serif\; font-size: 14px\; white-space: pre-wrap\;" />\n<span style="color: rgb(29\, 33\, 41)\; font-family: Helvetica\, Arial\, sans-serif\; font-size: 14px\; white-space: pre-wrap\;">TOURS of our uber-creative studio</span><br style="color: rgb(29\, 33\, 41)\; font-family: Helvetica\, Arial\, sans-serif\; font-size: 14px\; white-space: pre-wrap\;" />\n<span style="color: rgb(29\, 33\, 41)\; font-family: Helvetica\, Arial\, sans-serif\; font-size: 14px\; white-space: pre-wrap\;">GIVEAWAYS including two guitars\, lessons &amp\; cool merch</span><br style="color: rgb(29\, 33\, 41)\; font-family: Helvetica\, Arial\, sans-serif\; font-size: 14px\; white-space: pre-wrap\;" />\n<span style="color: rgb(29\, 33\, 41)\; font-family: Helvetica\, Arial\, sans-serif\; font-size: 14px\; white-space: pre-wrap\;">MEET &amp\; GREET with our talented instructors</span><br style="color: rgb(29\, 33\, 41)\; font-family: Helvetica\, Arial\, sans-serif\; font-size: 14px\; white-space: pre-wrap\;" />\n<span style="color: rgb(29\, 33\, 41)\; font-family: Helvetica\, Arial\, sans-serif\; font-size: 14px\; white-space: pre-wrap\;">FREE REFRESHMENTS for all guests</span><br style="color: rgb(29\, 33\, 41)\; font-family: Helvetica\, Arial\, sans-serif\; font-size: 14px\; white-space: pre-wrap\;" />\n<span style="color: rgb(29\, 33\, 41)\; font-family: Helvetica\, Arial\, sans-serif\; font-size: 14px\; white-space: pre-wrap\;">EXCLUSIVE DISCOUNTS available on music lessons</span><br style="color: rgb(29\, 33\, 41)\; font-family: Helvetica\, Arial\, sans-serif\; font-size: 14px\; white-space: pre-wrap\;" />\n<br style="color: rgb(29\, 33\, 41)\; font-family: Helvetica\, Arial\, sans-serif\; font-size: 14px\; white-space: pre-wrap\;" />\n<span style="color: rgb(29\, 33\, 41)\; font-family: Helvetica\, Arial\, sans-serif\; font-size: 14px\; white-space: pre-wrap\;">So\, just what makes us different from other music schools? A lot! Aside from teaching guitar\, voice\, piano/keys\, drums\, bass\, ukulele\, violin\, songwriting\, recording and performance\, we also offer music clinics and Summer band camps. We don&#39\;t just teach our students how to play their instruments\, we get them out performing at authentic venues like House of Blues\, Whiskey-A-Go-Go as well as many charity and community events.</span><br style="color: rgb(29\, 33\, 41)\; font-family: Helvetica\, Arial\, sans-serif\; font-size: 14px\; white-space: pre-wrap\;" />\n<br style="color: rgb(29\, 33\, 41)\; font-family: Helvetica\, Arial\, sans-serif\; font-size: 14px\; white-space: pre-wrap\;" />\n<span style="color: rgb(29\, 33\, 41)\; font-family: Helvetica\, Arial\, sans-serif\; font-size: 14px\; white-space: pre-wrap\;">You won&#39\;t want to miss this opportunity to explore the studio\, meet the instructors\, win some cool stuff\, and listen to some of the most talented young musicians around including our Rockstar Pro bands Sugar Bombs\, 94 Logic\, Tomorrow&rsquo\;s Anthem\, Scattered Dreams\, and Unscripted. Bring the whole family to see (and hear) why we&#39\;ve been voted the best music school in the Inland Empire by Inland Empire Magazine two years in a row as well as being featured on Eyewitness News\, Good Day LA and CNN! </span>
LOCATION:Rockstars of Tomorrow 2855 Foothill Blvd.\, Suite A102
UID:e.1883.1297
SEQUENCE:3
DTSTAMP:20260422T030542Z
URL:https://business.lavernechamber.org/events/details/grand-opening-event-rockstars-of-tomorrow-1297
END:VEVENT

END:VCALENDAR
