BEGIN:VCALENDAR
VERSION:2.0
PRODID:-//ChamberMaster//Event Calendar 2.0//EN
METHOD:PUBLISH
X-PUBLISHED-TTL:P3D
REFRESH-INTERVAL:P3D
CALSCALE:GREGORIAN
BEGIN:VEVENT
DTSTART:20170421T000000Z
DTEND:20170421T010000Z
X-MICROSOFT-CDO-ALLDAYEVENT:FALSE
SUMMARY:Grand Opening Ribbon Cutting
DESCRIPTION:Join us as we celebrate the grand opening of ZR La Verne Brazilian Jiu Jitsu!
X-ALT-DESC;FMTTYPE=text/html:Join us as we celebrate the grand opening of ZR La Verne Brazilian Jiu Jitsu!
LOCATION:ZR La Verne 2451 Foothill Blvd.
UID:e.1883.112
SEQUENCE:3
DTSTAMP:20260423T141109Z
URL:https://business.lavernechamber.org/events/details/grand-opening-ribbon-cutting-112
END:VEVENT

END:VCALENDAR
