BEGIN:VCALENDAR
VERSION:2.0
PRODID:-//ChamberMaster//Event Calendar 2.0//EN
METHOD:PUBLISH
X-PUBLISHED-TTL:P3D
REFRESH-INTERVAL:P3D
CALSCALE:GREGORIAN
BEGIN:VEVENT
DTSTART:20170608T190000Z
DTEND:20170608T200000Z
X-MICROSOFT-CDO-ALLDAYEVENT:FALSE
SUMMARY:Grand Opening Ribbon Cutting
DESCRIPTION:Join us as we celebrate the grand opening!
X-ALT-DESC;FMTTYPE=text/html:Join us as we celebrate the grand opening!
LOCATION:Nothing Bundt Cakes 2084 Foothill Blvd.\, Suite H
UID:e.1883.121
SEQUENCE:3
DTSTAMP:20260423T094421Z
URL:https://business.lavernechamber.org/events/details/grand-opening-ribbon-cutting-121
END:VEVENT

END:VCALENDAR
