BEGIN:VCALENDAR
VERSION:2.0
PRODID:-//ChamberMaster//Event Calendar 2.0//EN
METHOD:PUBLISH
X-PUBLISHED-TTL:P3D
REFRESH-INTERVAL:P3D
CALSCALE:GREGORIAN
BEGIN:VEVENT
DTSTART:20190302T000000Z
DTEND:20190302T010000Z
X-MICROSOFT-CDO-ALLDAYEVENT:FALSE
SUMMARY:Grand Opening Ribbon Cutting
DESCRIPTION:Join us as we celebrate the grand opening of Amethyst Healing Spa
X-ALT-DESC;FMTTYPE=text/html:Join us as we celebrate the grand opening of Amethyst Healing Spa
LOCATION:Amethyst Healing Spa 1768 Arrow Hwy\, Suite 104
UID:e.1883.1287
SEQUENCE:3
DTSTAMP:20260422T013048Z
URL:https://business.lavernechamber.org/events/details/grand-opening-ribbon-cutting-1287
END:VEVENT

END:VCALENDAR
