BEGIN:VCALENDAR
VERSION:2.0
PRODID:-//ChamberMaster//Event Calendar 2.0//EN
METHOD:PUBLISH
X-PUBLISHED-TTL:P3D
REFRESH-INTERVAL:P3D
CALSCALE:GREGORIAN
BEGIN:VEVENT
DTSTART:20190402T230000Z
DTEND:20190403T000000Z
X-MICROSOFT-CDO-ALLDAYEVENT:FALSE
SUMMARY:Grand Opening Ribbon Cutting
DESCRIPTION:Join us as we celebrate the grand opening of Rockstars of Tomorrow
X-ALT-DESC;FMTTYPE=text/html:Join us as we celebrate the grand opening of Rockstars of Tomorrow
LOCATION:Rockstars of Tomorrow 2855 Foothill Blvd\, Suite 102
UID:e.1883.1329
SEQUENCE:3
DTSTAMP:20260421T235038Z
URL:https://business.lavernechamber.org/events/details/grand-opening-ribbon-cutting-1329
END:VEVENT

END:VCALENDAR
