BEGIN:VCALENDAR
VERSION:2.0
PRODID:-//ChamberMaster//Event Calendar 2.0//EN
METHOD:PUBLISH
X-PUBLISHED-TTL:P3D
REFRESH-INTERVAL:P3D
CALSCALE:GREGORIAN
BEGIN:VEVENT
DTSTART:20190419T000000Z
DTEND:20190419T010000Z
X-MICROSOFT-CDO-ALLDAYEVENT:FALSE
SUMMARY:Grand Opening Ribbon Cutting
DESCRIPTION:Join us as we welcome Craft E Flights to La Verne!
X-ALT-DESC;FMTTYPE=text/html:Join us as we welcome Craft E Flights to La Verne!
LOCATION:Craft E Flights
UID:e.1883.1348
SEQUENCE:3
DTSTAMP:20260421T235039Z
URL:https://business.lavernechamber.org/events/details/grand-opening-ribbon-cutting-1348
END:VEVENT

END:VCALENDAR
