BEGIN:VCALENDAR
VERSION:2.0
PRODID:-//ChamberMaster//Event Calendar 2.0//EN
METHOD:PUBLISH
X-PUBLISHED-TTL:P3D
REFRESH-INTERVAL:P3D
CALSCALE:GREGORIAN
BEGIN:VEVENT
DTSTART:20190529T230000Z
DTEND:20190530T000000Z
X-MICROSOFT-CDO-ALLDAYEVENT:FALSE
SUMMARY:Grand Opening Ribbon Cutting
DESCRIPTION:Join us as we welcome United Sports Academy to La Verne!
X-ALT-DESC;FMTTYPE=text/html:Join us as we welcome United Sports Academy to La Verne!
LOCATION:United Sports Academy
UID:e.1883.1377
SEQUENCE:3
DTSTAMP:20260421T234947Z
URL:https://business.lavernechamber.org/events/details/grand-opening-ribbon-cutting-1377
END:VEVENT

END:VCALENDAR
