BEGIN:VCALENDAR
VERSION:2.0
PRODID:-//ChamberMaster//Event Calendar 2.0//EN
METHOD:PUBLISH
X-PUBLISHED-TTL:P3D
REFRESH-INTERVAL:P3D
CALSCALE:GREGORIAN
BEGIN:VEVENT
DTSTART:20170817T000000Z
DTEND:20170817T010000Z
X-MICROSOFT-CDO-ALLDAYEVENT:FALSE
SUMMARY:Grand Opening Ribbon Cutting
DESCRIPTION:Join us to celebrate the Grand Opening of Grandma Pucci's Homemade Ice Cream!
X-ALT-DESC;FMTTYPE=text/html:Join us to celebrate the Grand Opening of Grandma Pucci&#39\;s Homemade Ice Cream!
LOCATION:Grandma Pucci's Homemade Ice Cream 2320 Foothill Blvd.\, Suite A
UID:e.1883.196
SEQUENCE:3
DTSTAMP:20260423T063631Z
URL:https://business.lavernechamber.org/events/details/grand-opening-ribbon-cutting-196
END:VEVENT

END:VCALENDAR
