BEGIN:VCALENDAR
VERSION:2.0
PRODID:-//ChamberMaster//Event Calendar 2.0//EN
METHOD:PUBLISH
X-PUBLISHED-TTL:P3D
REFRESH-INTERVAL:P3D
CALSCALE:GREGORIAN
BEGIN:VEVENT
DTSTART:20180804T190000Z
DTEND:20180805T010000Z
X-MICROSOFT-CDO-ALLDAYEVENT:FALSE
SUMMARY:Grand Re-Opening | FREE Food\, Live Music | Via Verde Country Club
DESCRIPTION:Don't miss Summer's hottest FREE event! You are cordially invited to the newly renovated Via Verde Country Club. Enjoy free food and live music!\n\n\n\nCome enjoy a lively tour of the following:\n\n18 hole championship golf course\, fine dining\, 6 lighted tennis courts\, 5-star banquet rooms\, pro shop\, executive card room\, snack bar\, and Jr. Olympic pool.
X-ALT-DESC;FMTTYPE=text/html:<span style="color:rgb(102\, 106\, 115)\; font-family:benton sans\,-apple-system\,blinkmacsystemfont\,roboto\,helvetica neue\,helvetica\,tahoma\,arial\,sans-serif\; font-size:15px">Don&#39\;t miss Summer&#39\;s hottest FREE event! You are cordially invited to the newly renovated Via Verde Country Club. Enjoy free food and live music!</span><br />\n<br />\n<span style="color:rgb(102\, 106\, 115)\; font-family:benton sans\,-apple-system\,blinkmacsystemfont\,roboto\,helvetica neue\,helvetica\,tahoma\,arial\,sans-serif\; font-size:15px">Come enjoy a lively tour of the following:</span><br />\n<span style="color:rgb(102\, 106\, 115)\; font-family:benton sans\,-apple-system\,blinkmacsystemfont\,roboto\,helvetica neue\,helvetica\,tahoma\,arial\,sans-serif\; font-size:15px">18 hole championship golf course\, fine dining\, 6 lighted tennis courts\, 5-star banquet rooms\, pro shop\, executive card room\, snack bar\, and Jr. Olympic pool.</span>
LOCATION:Via Verde Country Club 1400 Avenida Entrada San Dimas\, CA 91773
UID:e.1883.725
SEQUENCE:3
DTSTAMP:20260422T121053Z
URL:https://business.lavernechamber.org/events/details/grand-re-opening-free-food-live-music-via-verde-country-club-725
END:VEVENT

END:VCALENDAR
