BEGIN:VCALENDAR
VERSION:2.0
PRODID:-//ChamberMaster//Event Calendar 2.0//EN
METHOD:PUBLISH
X-PUBLISHED-TTL:P3D
REFRESH-INTERVAL:P3D
CALSCALE:GREGORIAN
BEGIN:VEVENT
DTSTART:20191031T140000Z
DTEND:20191101T060000Z
X-MICROSOFT-CDO-ALLDAYEVENT:FALSE
SUMMARY:Halloween special free kids meal
DESCRIPTION:Buy any combo meal and get a free kids meal with child present and in costume.
X-ALT-DESC;FMTTYPE=text/html:Buy any combo meal and get a free kids meal with child present and in costume.<br />\n&nbsp\;
LOCATION:La Verne Del Taco
UID:e.1883.2038
SEQUENCE:3
DTSTAMP:20260421T145211Z
URL:https://business.lavernechamber.org/events/details/halloween-special-free-kids-meal-10-31-2019-2038
END:VEVENT

END:VCALENDAR
