BEGIN:VCALENDAR
VERSION:2.0
PRODID:-//ChamberMaster//Event Calendar 2.0//EN
METHOD:PUBLISH
X-PUBLISHED-TTL:P3D
REFRESH-INTERVAL:P3D
CALSCALE:GREGORIAN
BEGIN:VEVENT
DTSTART:20191029T220000Z
DTEND:20191030T000000Z
X-MICROSOFT-CDO-ALLDAYEVENT:FALSE
SUMMARY:Happy Hour 3pm-5pm every day BOGO Premium Shakes
DESCRIPTION:Buy any Premium Shake and get a free one between the hours of 3pm and 5pm everyday.
X-ALT-DESC;FMTTYPE=text/html:Buy any Premium Shake and get a free one between the hours of 3pm and 5pm everyday.&nbsp\;&nbsp\;
LOCATION:Del Taco
UID:e.1883.2004
SEQUENCE:3
DTSTAMP:20260421T144942Z
URL:https://business.lavernechamber.org/events/details/happy-hour-3pm-5pm-every-day-bogo-premium-shakes-2004
END:VEVENT

END:VCALENDAR
