BEGIN:VCALENDAR
VERSION:2.0
PRODID:-//ChamberMaster//Event Calendar 2.0//EN
METHOD:PUBLISH
X-PUBLISHED-TTL:P3D
REFRESH-INTERVAL:P3D
CALSCALE:GREGORIAN
BEGIN:VEVENT
DTSTART:20180217T190000Z
DTEND:20180217T220000Z
X-MICROSOFT-CDO-ALLDAYEVENT:FALSE
SUMMARY:Hard Hat Preview Tour
DESCRIPTION:Phase 1 is 90% sold out and newly released Phase 2 available for summer move in.\n\nHurry in this weekend for the first pick on location!\n\n\n\n\n\nemerald@cityventures.com\n\nOpen Daily 10am - 5pm\n\n \n\nVisit Today!\n\n2\,730   3 \,283 Sq. Ft. | Up to 5 Bedrooms & 4 Bathrooms\n\nSolar-powered 2-story Single-family Homes | Private Backyards | 2 -Car Garage
X-ALT-DESC;FMTTYPE=text/html:<span style="color: rgb(75\, 79\, 86)\; font-family: Helvetica\, Arial\, sans-serif\; font-size: 14px\;">Phase 1 is 90% sold out and newly released Phase 2 available for summer move in.</span><br style="color: rgb(75\, 79\, 86)\; font-family: Helvetica\, Arial\, sans-serif\; font-size: 14px\;" />\n<span style="color: rgb(75\, 79\, 86)\; font-family: Helvetica\, Arial\, sans-serif\; font-size: 14px\;">Hurry in this weekend for the first pick on location!</span><br style="color: rgb(75\, 79\, 86)\; font-family: Helvetica\, Arial\, sans-serif\; font-size: 14px\;" />\n<br style="color: rgb(75\, 79\, 86)\; font-family: Helvetica\, Arial\, sans-serif\; font-size: 14px\;" />\n<br style="color: rgb(75\, 79\, 86)\; font-family: Helvetica\, Arial\, sans-serif\; font-size: 14px\;" />\n<span style="color: rgb(75\, 79\, 86)\; font-family: Helvetica\, Arial\, sans-serif\; font-size: 14px\;">emerald@cityventures.com</span><br style="color: rgb(75\, 79\, 86)\; font-family: Helvetica\, Arial\, sans-serif\; font-size: 14px\;" />\n<span style="color: rgb(75\, 79\, 86)\; font-family: Helvetica\, Arial\, sans-serif\; font-size: 14px\;">Open Daily 10am - 5pm<br />\n&#8203\;</span><br style="color: rgb(75\, 79\, 86)\; font-family: Helvetica\, Arial\, sans-serif\; font-size: 14px\;" />\n<span style="color: rgb(75\, 79\, 86)\; font-family: Helvetica\, Arial\, sans-serif\; font-size: 14px\;">Visit Today!</span><br style="color: rgb(75\, 79\, 86)\; font-family: Helvetica\, Arial\, sans-serif\; font-size: 14px\;" />\n<span style="color: rgb(75\, 79\, 86)\; font-family: Helvetica\, Arial\, sans-serif\; font-size: 14px\;">2\,730 &ndash\; 3 \,283 Sq. Ft. | Up to 5 Bedrooms &amp\; 4 Bathrooms</span><br style="color: rgb(75\, 79\, 86)\; font-family: Helvetica\, Arial\, sans-serif\; font-size: 14px\;" />\n<span style="color: rgb(75\, 79\, 86)\; font-family: Helvetica\, Arial\, sans-serif\; font-size: 14px\;">Solar-powered 2-story Single-family Homes | Private Backyards | 2 -Car Garage</span>
LOCATION:The Homes 2006 Baseline Road\, La Verne\, CA 91750
UID:e.1883.538
SEQUENCE:3
DTSTAMP:20260422T225751Z
URL:https://business.lavernechamber.org/events/details/hard-hat-preview-tour-538
END:VEVENT

END:VCALENDAR
