BEGIN:VCALENDAR
VERSION:2.0
PRODID:-//ChamberMaster//Event Calendar 2.0//EN
METHOD:PUBLISH
X-PUBLISHED-TTL:P3D
REFRESH-INTERVAL:P3D
CALSCALE:GREGORIAN
BEGIN:VEVENT
DTSTART:20191206T180000Z
DTEND:20191207T020000Z
X-MICROSOFT-CDO-ALLDAYEVENT:FALSE
SUMMARY:Harvest Festival 2019
DESCRIPTION:America's favorite holiday original arts & crafts event returns to Fairplex December 6-8 with one-of-a-kind items\, specialty foods and strolling entertainment.
X-ALT-DESC;FMTTYPE=text/html:<span style="font-family:roboto slab\,serif\; font-size:12px">America&#39\;s favorite holiday original arts &amp\; crafts event returns to Fairplex December 6-8 with one-of-a-kind items\, specialty foods and strolling entertainment.</span><br />\n&nbsp\;
LOCATION:Fairplex Parking at Gate 17 on Fairplex Dr. with prevailing rates.
UID:e.1883.2110
SEQUENCE:3
DTSTAMP:20260421T161423Z
URL:https://business.lavernechamber.org/events/details/harvest-festival-2019-2110
END:VEVENT

END:VCALENDAR
