BEGIN:VCALENDAR
VERSION:2.0
PRODID:-//ChamberMaster//Event Calendar 2.0//EN
METHOD:PUBLISH
X-PUBLISHED-TTL:P3D
REFRESH-INTERVAL:P3D
CALSCALE:GREGORIAN
BEGIN:VEVENT
DTSTART:20171021T000000Z
DTEND:20171021T020000Z
X-MICROSOFT-CDO-ALLDAYEVENT:FALSE
SUMMARY:Haynes Family of Programs 5th Annual Halloween Haunt
DESCRIPTION:Haynes' Bliss Academy School for Autism & Developmental Disabilities is hosting its annual Halloween Haunt fundraiser. Enjoy games\, raffles\, and treats before walking through the Haunted House...if you dare. $3 per person.
X-ALT-DESC;FMTTYPE=text/html:<span style="color: rgb(75\, 79\, 86)\; font-family: Helvetica\, Arial\, sans-serif\; font-size: 14px\;">Haynes&#39\; Bliss Academy School for Autism &amp\; Developmental Disabilities is hosting its annual Halloween Haunt fundraiser. Enjoy games\, raffles\, and treats before walking through the Haunted House...if you dare. $3 per person.</span>
LOCATION:Haynes' Bliss Academy 233 Baseline Rd.
UID:e.1883.371
SEQUENCE:3
DTSTAMP:20260423T032916Z
URL:https://business.lavernechamber.org/events/details/haynes-family-of-programs-5th-annual-halloween-haunt-371
END:VEVENT

END:VCALENDAR
