BEGIN:VCALENDAR
VERSION:2.0
PRODID:-//ChamberMaster//Event Calendar 2.0//EN
METHOD:PUBLISH
X-PUBLISHED-TTL:P3D
REFRESH-INTERVAL:P3D
CALSCALE:GREGORIAN
BEGIN:VEVENT
DTSTART:20180621T000000Z
DTEND:20180621T020000Z
X-MICROSOFT-CDO-ALLDAYEVENT:FALSE
SUMMARY:Haynes Family of Programs 8th Annual Multi-Chamber Mixer
DESCRIPTION:Representatives of chambers of commerce from nine area cities will participate in the eighth annual "multi-chamber mixer" hosted the by Haynes Family of Programs in La Verne.\n\n            The event\, scheduled for 5 to 7 p.m.\, Wednesday\, June 20\, at the Haynes Family of Programs campus\, at 233 Baseline Road\, La Verne\, will include casual networking\, live music\, food and beverage stations\, raffle prizes and campus tours.  \n\n            This year's colorful Meet Me in Rio theme features a menu that includes taste of Brazil sample bowls\, mango habanero chicken wings\, beef empanadas\, summer salad and more.\n\n            The event is free and open to the public. All are welcome.\n\n            Chambers participating in the event include La Verne\, Claremont\, Covina\, Glendora\, Irwindale\, Montclair\, Pomona\, San Dimas and Upland.
X-ALT-DESC;FMTTYPE=text/html:<span style="font-size:12.0pt">Representatives of chambers of commerce from nine area cities will participate in the eighth annual &ldquo\;multi-chamber mixer&rdquo\; hosted the by Haynes Family of Programs in La Verne.</span><br />\n<span style="font-size:12.0pt">&nbsp\;&nbsp\;&nbsp\;&nbsp\;&nbsp\;&nbsp\;&nbsp\;&nbsp\;&nbsp\;&nbsp\;&nbsp\; The event\, scheduled for 5 to 7 p.m.\, Wednesday\, June 20\, at the Haynes Family of Programs campus\, at 233 Baseline Road\, La Verne\, will include casual networking\, live music\, food and beverage stations\, raffle prizes and campus tours.&nbsp\; </span><br />\n<span style="font-size:12.0pt">&nbsp\;&nbsp\;&nbsp\;&nbsp\;&nbsp\;&nbsp\;&nbsp\;&nbsp\;&nbsp\;&nbsp\;&nbsp\; This year&rsquo\;s colorful Meet Me in Rio theme features a menu that includes taste of Brazil sample bowls\, mango habanero chicken wings\, beef empanadas\, summer salad and more.</span><br />\n<span style="font-size:12.0pt">&nbsp\;&nbsp\;&nbsp\;&nbsp\;&nbsp\;&nbsp\;&nbsp\;&nbsp\;&nbsp\;&nbsp\;&nbsp\; The event is free and open to the public. All are welcome.</span><br />\n<span style="font-size:12.0pt">&nbsp\;&nbsp\;&nbsp\;&nbsp\;&nbsp\;&nbsp\;&nbsp\;&nbsp\;&nbsp\;&nbsp\;&nbsp\; Chambers participating in the event include La Verne\, Claremont\, Covina\, Glendora\, Irwindale\, Montclair\, Pomona\, San Dimas and Upland.</span>
LOCATION:Haynes Family of Programs - 233 Baseline Road\, La Verne
UID:e.1883.667
SEQUENCE:3
DTSTAMP:20260422T151857Z
URL:https://business.lavernechamber.org/events/details/haynes-family-of-programs-8th-annual-multi-chamber-mixer-667
END:VEVENT

END:VCALENDAR
