BEGIN:VCALENDAR
VERSION:2.0
PRODID:-//ChamberMaster//Event Calendar 2.0//EN
METHOD:PUBLISH
X-PUBLISHED-TTL:P3D
REFRESH-INTERVAL:P3D
CALSCALE:GREGORIAN
BEGIN:VEVENT
DTSTART:20181208T013000Z
DTEND:20181208T030000Z
X-MICROSOFT-CDO-ALLDAYEVENT:FALSE
SUMMARY:Haynes Family of Programs Holiday Lights Extravaganza
DESCRIPTION:Come one\, come all to our annual community holiday party. Experience dazzling holiday lights and:\n\n \n\nPhotos with Santa & Selfie Station \n\nSliders (beef\, chicken\, Chicago dog\, plant-based) \n\nDoubleTree by Hilton/Claremont Cookies & Mini Cupcakes \n\nEggnog & Hot Chocolate\n\nHot Buttered Popcorn & Fresh Cotton Candy\n\nGame & Craft Booths\n\nMeet Our Team and Board of Directors\n\n \n\nNEW THIS YEAR - Which Haynes program will create the winning booth: Residential/Treatment\, Wraparound\, Renaissance Community Prep\, Bliss Academy\, STAR Academy or Administration?\n\n \n\nEveryone is welcome\, no cost to attend.
X-ALT-DESC;FMTTYPE=text/html:<span style="font-family:itc avant garde std bk\,sans-serif"><span style="font-size:14.0pt">Come one\, come all to our annual community holiday party. Experience dazzling holiday lights and:</span></span><br />\n&nbsp\;<br />\n<span style="font-family:itc avant garde std bk\,sans-serif"><span style="font-size:14.0pt">Photos with Santa &amp\; Selfie Station </span></span><br />\n<span style="font-family:itc avant garde std bk\,sans-serif"><span style="font-size:14.0pt">Sliders (beef\, chicken\, Chicago dog\, plant-based) </span></span><br />\n<span style="font-family:itc avant garde std bk\,sans-serif"><span style="font-size:14.0pt">DoubleTree by Hilton/Claremont Cookies &amp\; Mini Cupcakes </span></span><br />\n<span style="font-family:itc avant garde std bk\,sans-serif"><span style="font-size:14.0pt">Eggnog &amp\; Hot Chocolate</span></span><br />\n<span style="font-family:itc avant garde std bk\,sans-serif"><span style="font-size:14.0pt">Hot Buttered Popcorn &amp\; Fresh Cotton Candy</span></span><br />\n<span style="font-family:itc avant garde std bk\,sans-serif"><span style="font-size:14.0pt">Game &amp\; Craft Booths<br />\nMeet Our Team and Board of Directors</span></span><br />\n&nbsp\;<br />\n<strong><span style="font-family:itc avant garde std bk\,sans-serif"><span style="font-size:14.0pt">NEW THIS YEAR</span></span></strong><span style="font-family:itc avant garde std bk\,sans-serif"><span style="font-size:14.0pt"> - Which Haynes program will create the winning booth: Residential/Treatment\, Wraparound\, Renaissance Community Prep\, Bliss Academy\, STAR Academy or Administration?</span></span><br />\n&nbsp\;<br />\n<span style="font-family:itc avant garde std bk\,sans-serif"><span style="font-size:14.0pt">Everyone is welcome\, no cost to attend.</span></span><br />\n&nbsp\;
LOCATION:Haynes Family of Programs 233 Base Line Road La Verne\, CA 91750
UID:e.1883.1239
SEQUENCE:3
DTSTAMP:20260422T060030Z
URL:https://business.lavernechamber.org/events/details/haynes-family-of-programs-holiday-lights-extravaganza-1239
END:VEVENT

END:VCALENDAR
