BEGIN:VCALENDAR
VERSION:2.0
PRODID:-//ChamberMaster//Event Calendar 2.0//EN
METHOD:PUBLISH
X-PUBLISHED-TTL:P3D
REFRESH-INTERVAL:P3D
CALSCALE:GREGORIAN
BEGIN:VEVENT
DTSTART:20191019T170000Z
DTEND:20191019T220000Z
X-MICROSOFT-CDO-ALLDAYEVENT:FALSE
SUMMARY:Heritage Harvest Faire
DESCRIPTION:On October 19\, from 10 a.m.   3:00 p.m. the Heritage Foundation will  have a vendor's fair with handmade items\, jewelry\, food\, home base business\, soaps\, pumpkins\, tractor rides\, petting farm\, etc.
X-ALT-DESC;FMTTYPE=text/html:<span style="font-family:calibri\,sans-serif\;"><span style="font-size:12.0pt\;">On October 19\, from 10 a.m. &ndash\; 3:00 p.m. the Heritage Foundation will&nbsp\; have a vendor&rsquo\;s fair with handmade items\, jewelry\, food\, home base business\, soaps\, pumpkins\, tractor rides\, petting farm\, etc.</span></span>
LOCATION:Heritage Park
UID:e.1883.1996
SEQUENCE:3
DTSTAMP:20260421T160803Z
URL:https://business.lavernechamber.org/events/details/heritage-harvest-faire-1996
END:VEVENT

END:VCALENDAR
