BEGIN:VCALENDAR
VERSION:2.0
PRODID:-//ChamberMaster//Event Calendar 2.0//EN
METHOD:PUBLISH
X-PUBLISHED-TTL:P3D
REFRESH-INTERVAL:P3D
CALSCALE:GREGORIAN
BEGIN:VEVENT
DTSTART:20191012T160000Z
DTEND:20191012T210000Z
X-MICROSOFT-CDO-ALLDAYEVENT:FALSE
SUMMARY:HIllcrest Country Fair
DESCRIPTION:It's Country Fair time\, with Fruit of the Forest Pies and Gias Macaron's in the Village Cafe\, and a Country Fair themed Lunch!\n\nDon't miss this fun event for you\, and the whole family!\n\n~All money raised goes directly to the Good Samaritan Fund~\n\nSee you there!
X-ALT-DESC;FMTTYPE=text/html:<span style="color: rgb(29\, 33\, 41)\; font-family: Helvetica\, Arial\, sans-serif\; font-size: 14px\; white-space: pre-wrap\;">It&#39\;s Country Fair time\, with Fruit of the Forest Pies and Gias Macaron&#39\;s in the Village Cafe\, and a Country Fair themed Lunch!</span><br style="color: rgb(29\, 33\, 41)\; font-family: Helvetica\, Arial\, sans-serif\; font-size: 14px\; white-space: pre-wrap\;" />\n<span style="color: rgb(29\, 33\, 41)\; font-family: Helvetica\, Arial\, sans-serif\; font-size: 14px\; white-space: pre-wrap\;">Don&#39\;t miss this fun event for you\, and the whole family!</span><br style="color: rgb(29\, 33\, 41)\; font-family: Helvetica\, Arial\, sans-serif\; font-size: 14px\; white-space: pre-wrap\;" />\n<span style="color: rgb(29\, 33\, 41)\; font-family: Helvetica\, Arial\, sans-serif\; font-size: 14px\; white-space: pre-wrap\;">~All money raised goes directly to the Good Samaritan Fund~</span><br style="color: rgb(29\, 33\, 41)\; font-family: Helvetica\, Arial\, sans-serif\; font-size: 14px\; white-space: pre-wrap\;" />\n<span style="color: rgb(29\, 33\, 41)\; font-family: Helvetica\, Arial\, sans-serif\; font-size: 14px\; white-space: pre-wrap\;">See you there!</span>
LOCATION:Hillcrest
UID:e.1883.1994
SEQUENCE:3
DTSTAMP:20260421T160712Z
URL:https://business.lavernechamber.org/events/details/hillcrest-country-fair-1994
END:VEVENT

END:VCALENDAR
