BEGIN:VCALENDAR
VERSION:2.0
PRODID:-//ChamberMaster//Event Calendar 2.0//EN
METHOD:PUBLISH
X-PUBLISHED-TTL:P3D
REFRESH-INTERVAL:P3D
CALSCALE:GREGORIAN
BEGIN:VEVENT
DTSTART:20191221T180000Z
DTEND:20191221T203000Z
X-MICROSOFT-CDO-ALLDAYEVENT:FALSE
SUMMARY:Holiday Gift Wrapping at the La Verne Library
DESCRIPTION:Need to get out of the house to wrap your holiday presents? Learn a little history about gift giving while you enjoy holiday music\, hot cocoa and cookies while you wrap your presents! The library will provide paper\, bows\, and wrapping supplies while they last. All you need to do is bring in your gifts\n\nand be ready to wrap!\n\nRefreshments will be served at this event. A list of ingredients will be made available.\n\nAges 18+
X-ALT-DESC;FMTTYPE=text/html:<div><span style="font-size: 13px\;">Need to get out of the house to wrap your holiday presents? Learn a little history about gift giving while you enjoy holiday music\, hot cocoa and cookies while you wrap your presents! The library will provide paper\, bows\, and wrapping supplies while they last. All you need to do is bring in your gifts</span></div>\n\n<div><span style="font-size: 13px\;">and be ready to wrap!</span></div>\n\n<div><span style="font-size: 13px\;">Refreshments will be served at this event. A list of ingredients will be made available.</span></div>\n\n<div><span style="font-size: 13px\;">Ages 18+</span></div>\n
LOCATION:La Verne Public Library
UID:e.1883.2141
SEQUENCE:3
DTSTAMP:20260421T145028Z
URL:https://business.lavernechamber.org/events/details/holiday-gift-wrapping-at-the-la-verne-library-2141
END:VEVENT

END:VCALENDAR
