BEGIN:VCALENDAR
VERSION:2.0
PRODID:-//ChamberMaster//Event Calendar 2.0//EN
METHOD:PUBLISH
X-PUBLISHED-TTL:P3D
REFRESH-INTERVAL:P3D
CALSCALE:GREGORIAN
BEGIN:VEVENT
DTSTART:20191204T193000Z
DTEND:20191204T213000Z
X-MICROSOFT-CDO-ALLDAYEVENT:FALSE
SUMMARY:Holiday Luncheon
DESCRIPTION:Join us for our annual Holiday Luncheon!!   \n\n \n\n	Photo ops with Santa\n	We will  be collecting toys and gift cards for the Children's Organizations in our area.\n	Bring a Raffle prize for our gift exchange\n	Opportunity Drawing\n	Beer & Wine available for purchase  \n\n\n\nEntertainment by Carol Singers from Inland Valley Repertory Theatre
X-ALT-DESC;FMTTYPE=text/html:<span style="font-size:14px\;"><span style="font-family:arial\;">Join us for our annual Holiday Luncheon!!&nbsp\;&nbsp\;&nbsp\;</span></span><br />\n&nbsp\;\n<ul>\n	<li><span style="font-size: 14px\;"><span style="font-family: arial\;">Photo ops with Santa</span></span></li>\n	<li><span style="font-size: 14px\;"><span style="font-family: arial\;">We will&nbsp\; be collecting toys and gift cards for the Children&rsquo\;s Organizations in our area.</span></span></li>\n	<li><span style="font-size: 14px\;"><span style="font-family: arial\;">Bring a Raffle prize for our gift exchange</span></span></li>\n	<li><span style="font-size: 14px\;"><span style="font-family: arial\;">Opportunity Drawing</span></span></li>\n	<li><span style="font-family: arial\; font-size: 14px\;">Beer &amp\; Wine available for purchase&nbsp\;&nbsp\;</span></li>\n</ul>\n<br />\n<span style="font-size: 14px\;"><span style="font-family: arial\;">Entertainment by Carol Singers from Inland Valley Repertory Theatre</span></span>\n\n<pre style="-webkit-tap-highlight-color: rgba(0\, 0\, 0\, 0)\; margin-top: 0px\; margin-bottom: 0px\; font-family: inherit\; font-size: 12px\; color: rgb(0\, 0\, 0)\; text-align: justify\;">\n<span style="font-size: 14px\;"><span style="font-family: arial\;"><span style="-webkit-tap-highlight-color: rgba(0\, 0\, 0\, 0)\; margin-top: 0px\; margin-bottom: 0px\;"><span style="-webkit-tap-highlight-color: rgba(0\, 0\, 0\, 0)\; margin-top: 0px\; margin-bottom: 0px\;"><span style="-webkit-tap-highlight-color: rgba(0\, 0\, 0\, 0)\; margin-top: 0px\; margin-bottom: 0px\;">\n</span></span></span></span></span></pre>\n\n<div>&nbsp\;</div>\n
LOCATION:Pomona Valley Mining Co.
UID:e.1883.1786
SEQUENCE:3
DTSTAMP:20260421T144717Z
URL:https://business.lavernechamber.org/events/details/holiday-luncheon-1786
END:VEVENT

END:VCALENDAR
