BEGIN:VCALENDAR
VERSION:2.0
PRODID:-//ChamberMaster//Event Calendar 2.0//EN
METHOD:PUBLISH
X-PUBLISHED-TTL:P3D
REFRESH-INTERVAL:P3D
CALSCALE:GREGORIAN
BEGIN:VEVENT
DTSTART:20171206T193000Z
DTEND:20171206T213000Z
X-MICROSOFT-CDO-ALLDAYEVENT:FALSE
SUMMARY:Holiday Luncheon
DESCRIPTION:Join us for our annual Holiday Luncheon!!   \n\n\n\nThe luncheon will include: 2 Carving Stations Prime Rib and Ham\, sides and a Gourmet Dessert Cart. \n\n(If you request a vegan meal\, please let us know by Monday December 4)\n\n\n\nBeer & Wine available for purchase   \n\n\n\n"Ornament Exchange"  Bring an ornament and you take one home ($15 and under)\n\n \n\nPhoto ops with Santa\n\n\n\nWe will also be collecting toys and gift cards for the Children's Organizations in our area.\n\n\n\nRaffle  and Opportunity Drawing
X-ALT-DESC;FMTTYPE=text/html:Join us for our annual Holiday Luncheon!!&nbsp\;&nbsp\;&nbsp\;<br />\n<br />\nThe luncheon will include: 2 Carving Stations Prime Rib and Ham\, sides and a&nbsp\;Gourmet Dessert Cart.&nbsp\;<br />\n(If you request a vegan meal\, please let us know by Monday December 4)<br />\n<br />\nBeer &amp\; Wine available for purchase&nbsp\; &nbsp\;<br />\n<br />\n&ldquo\;Ornament Exchange&rdquo\;&nbsp\; Bring an ornament and you take one home ($15 and under)<br />\n&nbsp\;<br />\nPhoto ops with Santa<br />\n<br />\nWe will also be collecting toys and gift cards for the Children&rsquo\;s Organizations in our area.<br />\n<br />\nRaffle&nbsp\; and Opportunity Drawing<br />\n&nbsp\;<br />\n<br />\n&nbsp\;
LOCATION:Hillcrest 2705 Mountain View Drive
UID:e.1883.431
SEQUENCE:3
DTSTAMP:20260423T014648Z
URL:https://business.lavernechamber.org/events/details/holiday-luncheon-431
END:VEVENT

END:VCALENDAR
