BEGIN:VCALENDAR
VERSION:2.0
PRODID:-//ChamberMaster//Event Calendar 2.0//EN
METHOD:PUBLISH
X-PUBLISHED-TTL:P3D
REFRESH-INTERVAL:P3D
CALSCALE:GREGORIAN
BEGIN:VEVENT
DTSTART:20171202T170000Z
DTEND:20171202T210000Z
X-MICROSOFT-CDO-ALLDAYEVENT:FALSE
SUMMARY:Holiday Open House
DESCRIPTION:The Holiday Open House is held in conjunction with the "La Verne Fresh" Farmers Market. Free photos with Santa Claus himself will be available\, courtesy of the Old Town La Verne merchants. Don't miss this first of the season opportunity for Santa visits with children and free photos. \n\nStudent musical programs are held\; prior year's programs have included the Ramona Middle School Jazz Band\, the Bonita High School D-Street hip hop dance team\, La Verne Gymnastics\, and local dance groups. Children's holiday craft booths are provided free of charge. A Tree Lighting Ceremony\, with carols\, music\, and a Christmas story\, will be held at 5:00 p.m. at Mainiero Square at the corner of D and 3rd Streets. \n\nThe Holiday Open House is a great time to visit the many charming stores and restaurants in Old Town La Verne and do some of that holiday shopping. Merchants will be open throughout the day for your convenience\, and make the Holiday Open House part of your plans!
X-ALT-DESC;FMTTYPE=text/html:<p style="margin: 2px 0px\; padding: 0px\; font-size: 11px\; border: none\; color: rgb(69\, 44\, 3)\; font-family: Arimo\, Arial\, &quot\;Arial Unicode MS&quot\;\, Helvetica\, sans-serif\; background-color: rgb(254\, 242\, 221)\;">The Holiday Open House is held in conjunction with the &ldquo\;La Verne Fresh&rdquo\;&nbsp\;Farmers Market. Free photos with Santa Claus himself will be available\,&nbsp\;courtesy of the Old Town La Verne merchants. Don&rsquo\;t miss this first of the&nbsp\;season opportunity for Santa visits with children and free photos.&nbsp\;</p>\n\n<p style="margin: 2px 0px\; padding: 0px\; font-size: 11px\; border: none\; color: rgb(69\, 44\, 3)\; font-family: Arimo\, Arial\, &quot\;Arial Unicode MS&quot\;\, Helvetica\, sans-serif\; background-color: rgb(254\, 242\, 221)\;">Student musical programs are held\; prior year&rsquo\;s programs have included&nbsp\;the Ramona Middle School Jazz Band\, the Bonita High School D-Street hip&nbsp\;hop dance team\, La Verne Gymnastics\, and local dance groups. Children&rsquo\;s&nbsp\;holiday craft booths are provided free of charge. A Tree Lighting Ceremony\,&nbsp\;with carols\, music\, and a Christmas story\, will be held at 5:00 p.m. at Mainiero&nbsp\;Square at the corner of D and 3rd Streets.&nbsp\;</p>\n\n<p style="margin: 2px 0px\; padding: 0px\; font-size: 11px\; border: none\; color: rgb(69\, 44\, 3)\; font-family: Arimo\, Arial\, &quot\;Arial Unicode MS&quot\;\, Helvetica\, sans-serif\; background-color: rgb(254\, 242\, 221)\;">The Holiday Open House is a great time to visit the many charming stores&nbsp\;and restaurants in Old Town La Verne and do some of that holiday&nbsp\;shopping. Merchants will be open throughout the day for your&nbsp\;convenience\, and make the Holiday Open House part of&nbsp\;your plans!</p>\n
LOCATION:Old Town La Verne corner of Third and D Street
UID:e.1883.424
SEQUENCE:3
DTSTAMP:20260423T003608Z
URL:https://business.lavernechamber.org/events/details/holiday-open-house-424
END:VEVENT

END:VCALENDAR
