BEGIN:VCALENDAR
VERSION:2.0
PRODID:-//ChamberMaster//Event Calendar 2.0//EN
METHOD:PUBLISH
X-PUBLISHED-TTL:P3D
REFRESH-INTERVAL:P3D
CALSCALE:GREGORIAN
BEGIN:VEVENT
DTSTART:20180427T230000Z
DTEND:20180428T050000Z
X-MICROSOFT-CDO-ALLDAYEVENT:FALSE
SUMMARY:Holy Name of Mary Family Festival 2018
DESCRIPTION:April 27\, 28\,& 29th 2018 Carnival Rides & Games\, Concert Series\, Local Entertainment\, Food\, & Car Raffle.HNMFamily Festival is an annual tradition for fun!\n\nThere will be dozens of carnival rides and games for the entire family. There will be delicious food such as Mexican\, Filipino\, Mediterranean\, pizza\, baked goods\, ice cream\, hot dogs\, hamburgers\, garlic fries\, and many more dishes. Besides fresh coffee and refreshing soft drinks\, there will also be a beer garden and wine tasting area. \n \n\n\n4:00pm Opening Ceremony\n\n5:30pm Kelly Rae Country Band\n\n8:00pm Lyvyn Skynyrd
X-ALT-DESC;FMTTYPE=text/html:<span style="font-size:14px\;"><span style="color: rgb(29\, 33\, 41)\; font-family: Helvetica\, Arial\, sans-serif\;">April 27\, 28\,&amp\; 29th 2018 Carnival Rides &amp\; Games\, Concert Series\, Local Entertainment\, Food\, &amp\; Car Raffle.HNMFamily Festival is an annual tradition for fun!</span></span><br />\nThere will be dozens of carnival rides and games for the entire family. There will be delicious food such as Mexican\, Filipino\, Mediterranean\, pizza\, baked goods\, ice cream\, hot dogs\, hamburgers\, garlic fries\, and many more dishes. Besides fresh coffee and refreshing soft drinks\, there will also be a beer garden and wine tasting area.&nbsp\;\n<div>&nbsp\;</div>\n\n<div>\n<p class="font_8" style="margin: 0px\; padding: 0px\; border: 0px\; outline: 0px\; vertical-align: baseline\; background-image: initial\; background-position: 0px 0px\; background-size: initial\; background-repeat: initial\; background-attachment: initial\; background-origin: initial\; background-clip: initial\; font-variant-numeric: normal\; font-variant-east-asian: normal\; font-stretch: normal\; font-size: 18px\; line-height: 1.1\; font-family: proxima-n-w01-reg\, sans-serif\; color: rgb(65\, 65\, 65)\; pointer-events: auto\;"><span style="margin: 0px\; padding: 0px\; border: 0px\; outline: 0px\; vertical-align: baseline\; background-image: initial\; background-position: 0px 0px\; background-size: initial\; background-repeat: initial\; background-attachment: initial\; background-origin: initial\; background-clip: initial\;"><span class="color_14" style="margin: 0px\; padding: 0px\; border: 0px\; outline: 0px\; vertical-align: baseline\; background-image: initial\; background-position: 0px 0px\; background-size: initial\; background-repeat: initial\; background-attachment: initial\; background-origin: initial\; background-clip: initial\; color: rgb(232\, 30\, 26)\; font-family: arial\, &quot\;&#65357\;&#65363\; &#65360\;&#12468\;&#12471\;&#12483\;&#12463\;&quot\;\, &quot\;ms pgothic&quot\;\, &#46027\;&#50880\;\, dotum\, helvetica\, sans-serif\; font-weight: 600\;">4:00pm Opening Ceremony</span></span></p>\n\n<p class="font_8" style="margin: 0px\; padding: 0px\; border: 0px\; outline: 0px\; vertical-align: baseline\; background-image: initial\; background-position: 0px 0px\; background-size: initial\; background-repeat: initial\; background-attachment: initial\; background-origin: initial\; background-clip: initial\; font-variant-numeric: normal\; font-variant-east-asian: normal\; font-stretch: normal\; font-size: 18px\; line-height: 1.1\; font-family: proxima-n-w01-reg\, sans-serif\; color: rgb(65\, 65\, 65)\; pointer-events: auto\;"><span style="margin: 0px\; padding: 0px\; border: 0px\; outline: 0px\; vertical-align: baseline\; background-image: initial\; background-position: 0px 0px\; background-size: initial\; background-repeat: initial\; background-attachment: initial\; background-origin: initial\; background-clip: initial\;"><span class="color_14" style="margin: 0px\; padding: 0px\; border: 0px\; outline: 0px\; vertical-align: baseline\; background-image: initial\; background-position: 0px 0px\; background-size: initial\; background-repeat: initial\; background-attachment: initial\; background-origin: initial\; background-clip: initial\; color: rgb(232\, 30\, 26)\; font-family: arial\, &quot\;&#65357\;&#65363\; &#65360\;&#12468\;&#12471\;&#12483\;&#12463\;&quot\;\, &quot\;ms pgothic&quot\;\, &#46027\;&#50880\;\, dotum\, helvetica\, sans-serif\; font-weight: 600\;">5:30pm Kelly Rae Country Band</span></span></p>\n\n<p class="font_8" style="margin: 0px\; padding: 0px\; border: 0px\; outline: 0px\; vertical-align: baseline\; background-image: initial\; background-position: 0px 0px\; background-size: initial\; background-repeat: initial\; background-attachment: initial\; background-origin: initial\; background-clip: initial\; font-variant-numeric: normal\; font-variant-east-asian: normal\; font-stretch: normal\; font-size: 18px\; line-height: 1.1\; font-family: proxima-n-w01-reg\, sans-serif\; color: rgb(65\, 65\, 65)\; pointer-events: auto\;"><span style="margin: 0px\; padding: 0px\; border: 0px\; outline: 0px\; vertical-align: baseline\; background-image: initial\; background-position: 0px 0px\; background-size: initial\; background-repeat: initial\; background-attachment: initial\; background-origin: initial\; background-clip: initial\;"><span class="color_14" style="margin: 0px\; padding: 0px\; border: 0px\; outline: 0px\; vertical-align: baseline\; background-image: initial\; background-position: 0px 0px\; background-size: initial\; background-repeat: initial\; background-attachment: initial\; background-origin: initial\; background-clip: initial\; color: rgb(232\, 30\, 26)\; font-family: arial\, &quot\;&#65357\;&#65363\; &#65360\;&#12468\;&#12471\;&#12483\;&#12463\;&quot\;\, &quot\;ms pgothic&quot\;\, &#46027\;&#50880\;\, dotum\, helvetica\, sans-serif\; font-weight: 600\;">8:00pm Lyvyn Skynyrd</span></span></p>\n</div>\n&nbsp\;
LOCATION:Holy Name of Mary 724 E. Bonita Ave.\, San Dimas (Southeast Corner of Bonita & San Dimas Canyon Road)
UID:e.1883.629
SEQUENCE:3
DTSTAMP:20260422T181052Z
URL:https://business.lavernechamber.org/events/details/holy-name-of-mary-family-festival-2018-629
END:VEVENT

END:VCALENDAR
